BEGIN:VCALENDAR
VERSION:2.0
PRODID:-//Visit Nelas Coração do Dão - ECPv6.15.15//NONSGML v1.0//EN
CALSCALE:GREGORIAN
METHOD:PUBLISH
X-ORIGINAL-URL:https://www.visitnelascoracaododao.pt
X-WR-CALDESC:Eventos para Visit Nelas Coração do Dão
REFRESH-INTERVAL;VALUE=DURATION:PT1H
X-Robots-Tag:noindex
X-PUBLISHED-TTL:PT1H
BEGIN:VTIMEZONE
TZID:UTC
BEGIN:STANDARD
TZOFFSETFROM:+0000
TZOFFSETTO:+0000
TZNAME:UTC
DTSTART:20230101T000000
END:STANDARD
END:VTIMEZONE
BEGIN:VEVENT
DTSTART;TZID=UTC:20240831T180000
DTEND;TZID=UTC:20240831T200000
DTSTAMP:20260422T164108
CREATED:20240830T085448Z
LAST-MODIFIED:20240830T085448Z
UID:10000077-1725127200-1725134400@www.visitnelascoracaododao.pt
SUMMARY:Concerto da Sociedade 2 de Fevereiro - Banda de Santar
DESCRIPTION:A Sociedade 2 de Fevereiro Banda de Santar prepara-se para dar um concerto no próximo dia 31 de agosto no Largo da Misericórdia de Santar\, pelas 18h00. \n  \nEventos \nOnde ficar
URL:https://www.visitnelascoracaododao.pt/agenda-evento/concerto-da-sociedade-2-de-fevereiro-banda-de-santar/
CATEGORIES:evento
ATTACH;FMTTYPE=image/jpeg:https://www.visitnelascoracaododao.pt/wp-content/uploads/2024/08/Banda-2-fevereiro.jpg
END:VEVENT
END:VCALENDAR