BEGIN:VCALENDAR
VERSION:2.0
PRODID:-//Visit Nelas Coração do Dão - ECPv6.15.15//NONSGML v1.0//EN
CALSCALE:GREGORIAN
METHOD:PUBLISH
X-WR-CALNAME:Visit Nelas Coração do Dão
X-ORIGINAL-URL:https://www.visitnelascoracaododao.pt
X-WR-CALDESC:Eventos para Visit Nelas Coração do Dão
REFRESH-INTERVAL;VALUE=DURATION:PT1H
X-Robots-Tag:noindex
X-PUBLISHED-TTL:PT1H
BEGIN:VTIMEZONE
TZID:UTC
BEGIN:STANDARD
TZOFFSETFROM:+0000
TZOFFSETTO:+0000
TZNAME:UTC
DTSTART:20230101T000000
END:STANDARD
END:VTIMEZONE
BEGIN:VEVENT
DTSTART;TZID=UTC:20240914T180000
DTEND;TZID=UTC:20240915T040000
DTSTAMP:20260420T024531
CREATED:20240807T145037Z
LAST-MODIFIED:20240807T145037Z
UID:10000070-1726336800-1726372800@www.visitnelascoracaododao.pt
SUMMARY:Sunset 80's & 90's Party em Moreira
DESCRIPTION:A Associação de Moreira vai-se transformar na máquina do tempo mais animada de sempre\, levando-vos diretamente para os gloriosos anos 80 e 90! Preparem-se para uma noite de pura diversão e nostalgia! Venham vestidos a rigor\, com as roupas mais icónicas desses tempos.O espaço vai estar decorado a rigor\, com atividades alusivas a estas épocas. \n  \nEventos \nOnde Comer
URL:https://www.visitnelascoracaododao.pt/agenda-evento/sunset-80s-90s-party-em-moreira/
LOCATION:Moreira
ATTACH;FMTTYPE=image/jpeg:https://www.visitnelascoracaododao.pt/wp-content/uploads/2024/08/moreira-anos-80.jpg
END:VEVENT
END:VCALENDAR