BEGIN:VCALENDAR
VERSION:2.0
PRODID:-//Visit Nelas Coração do Dão - ECPv6.15.15//NONSGML v1.0//EN
CALSCALE:GREGORIAN
METHOD:PUBLISH
X-ORIGINAL-URL:https://www.visitnelascoracaododao.pt
X-WR-CALDESC:Eventos para Visit Nelas Coração do Dão
REFRESH-INTERVAL;VALUE=DURATION:PT1H
X-Robots-Tag:noindex
X-PUBLISHED-TTL:PT1H
BEGIN:VTIMEZONE
TZID:UTC
BEGIN:STANDARD
TZOFFSETFROM:+0000
TZOFFSETTO:+0000
TZNAME:UTC
DTSTART:20240101T000000
END:STANDARD
END:VTIMEZONE
BEGIN:VEVENT
DTSTART;TZID=UTC:20250802T213000
DTEND;TZID=UTC:20250803T233000
DTSTAMP:20260420T023459
CREATED:20250724T133546Z
LAST-MODIFIED:20250724T133546Z
UID:10000297-1754170200-1754263800@www.visitnelascoracaododao.pt
SUMMARY:Festa em Vila Ruiva — 2 e 3 de Agosto
DESCRIPTION:Festa em Vila Ruiva — 2 e 3 de Agosto  \nA tradição está de volta e promete dois dias inesquecíveis!  \nJunte-se a nós nos dias 2 e 3 de agosto para mais uma edição da nossa festa popular em Vila Ruiva\, com muita animação\, música\, gastronomia e convívio à boa maneira da nossa terra!
URL:https://www.visitnelascoracaododao.pt/agenda-evento/festa-em-vila-ruiva-2-e-3-de-agosto/
LOCATION:Vila Ruiva
CATEGORIES:Festa Popular,Vila Ruiva
ATTACH;FMTTYPE=image/jpeg:https://www.visitnelascoracaododao.pt/wp-content/uploads/2025/07/520847528_122161455656521927_2660393636823659946_n.jpg
END:VEVENT
END:VCALENDAR