BEGIN:VCALENDAR
VERSION:2.0
PRODID:-//Visit Nelas Coração do Dão - ECPv6.15.15//NONSGML v1.0//EN
CALSCALE:GREGORIAN
METHOD:PUBLISH
X-WR-CALNAME:Visit Nelas Coração do Dão
X-ORIGINAL-URL:https://www.visitnelascoracaododao.pt
X-WR-CALDESC:Eventos para Visit Nelas Coração do Dão
REFRESH-INTERVAL;VALUE=DURATION:PT1H
X-Robots-Tag:noindex
X-PUBLISHED-TTL:PT1H
BEGIN:VTIMEZONE
TZID:UTC
BEGIN:STANDARD
TZOFFSETFROM:+0000
TZOFFSETTO:+0000
TZNAME:UTC
DTSTART:20230101T000000
END:STANDARD
END:VTIMEZONE
BEGIN:VEVENT
DTSTART;TZID=UTC:20241214T150000
DTEND;TZID=UTC:20241231T233000
DTSTAMP:20260420T150710
CREATED:20241127T111848Z
LAST-MODIFIED:20241127T111848Z
UID:10000115-1734188400-1735687800@www.visitnelascoracaododao.pt
SUMMARY:Atividades de Natal e de Ano Novo em Vila Ruiva
DESCRIPTION:A CSDRC em Vila Ruiva vai organizar várias atividades nesta época natalícia. As fogueiras\, tanto de Natal no dia 24 de dezembro como de passagem de ano no dia 31 de dezembro\, não vão faltar. Vai haver também a Festa de Natal com a atuação do grupo Malamados no dia 14 de dezembro. \nVISIT NELAS CORAÇÃO DO DÃO… O CAMINHO COMEÇA AQUI \nMunicípio de Nelas \n  \n  \n 
URL:https://www.visitnelascoracaododao.pt/agenda-evento/atividades-de-natal-e-de-ano-novo-em-vila-ruiva/
LOCATION:Vila Ruiva
CATEGORIES:Natal,Vila Ruiva
ATTACH;FMTTYPE=image/jpeg:https://www.visitnelascoracaododao.pt/wp-content/uploads/2024/11/IMG-20241126-WA0001.jpg
END:VEVENT
END:VCALENDAR