BEGIN:VCALENDAR
VERSION:2.0
PRODID:-//Visit Nelas Coração do Dão - ECPv6.15.15//NONSGML v1.0//EN
CALSCALE:GREGORIAN
METHOD:PUBLISH
X-WR-CALNAME:Visit Nelas Coração do Dão
X-ORIGINAL-URL:https://www.visitnelascoracaododao.pt
X-WR-CALDESC:Eventos para Visit Nelas Coração do Dão
REFRESH-INTERVAL;VALUE=DURATION:PT1H
X-Robots-Tag:noindex
X-PUBLISHED-TTL:PT1H
BEGIN:VTIMEZONE
TZID:UTC
BEGIN:STANDARD
TZOFFSETFROM:+0000
TZOFFSETTO:+0000
TZNAME:UTC
DTSTART:20240101T000000
END:STANDARD
END:VTIMEZONE
BEGIN:VEVENT
DTSTART;TZID=UTC:20250215T190000
DTEND;TZID=UTC:20250215T233000
DTSTAMP:20260420T102107
CREATED:20250208T153417Z
LAST-MODIFIED:20250208T153417Z
UID:10000160-1739646000-1739662200@www.visitnelascoracaododao.pt
SUMMARY:Jantar do amigo em Vila Ruiva
DESCRIPTION:No próximo dia 15 de fevereiro com início às 19h\, traz um amigo e vem desfrutar de uma noite de animação junto do Grupo Toc´Animar.\n\n\n\nEsperamos por Ti!\n\n\nVISIT NELAS CORAÇÃO DO DÃO… O CAMINHO COMEÇA AQUI\n\nMunicípio de Nelas
URL:https://www.visitnelascoracaododao.pt/agenda-evento/jantar-do-amigo-em-vila-ruiva/
LOCATION:Vila Ruiva
CATEGORIES:evento,Vila Ruiva
ATTACH;FMTTYPE=image/jpeg:https://www.visitnelascoracaododao.pt/wp-content/uploads/2025/02/476079249_122133643016521927_434751612512613407_n.jpg
END:VEVENT
END:VCALENDAR