BEGIN:VCALENDAR
VERSION:2.0
PRODID:-//Visit Nelas Coração do Dão - ECPv6.15.15//NONSGML v1.0//EN
CALSCALE:GREGORIAN
METHOD:PUBLISH
X-ORIGINAL-URL:https://www.visitnelascoracaododao.pt
X-WR-CALDESC:Eventos para Visit Nelas Coração do Dão
REFRESH-INTERVAL;VALUE=DURATION:PT1H
X-Robots-Tag:noindex
X-PUBLISHED-TTL:PT1H
BEGIN:VTIMEZONE
TZID:UTC
BEGIN:STANDARD
TZOFFSETFROM:+0000
TZOFFSETTO:+0000
TZNAME:UTC
DTSTART:20230101T000000
END:STANDARD
END:VTIMEZONE
BEGIN:VEVENT
DTSTART;TZID=UTC:20241125T080000
DTEND;TZID=UTC:20241125T170000
DTSTAMP:20260419T170117
CREATED:20241128T084804Z
LAST-MODIFIED:20241128T084804Z
UID:10000118-1732521600-1732554000@www.visitnelascoracaododao.pt
SUMMARY:Projeto "Dão Emoções"
DESCRIPTION:O Time Out Market – Mercado da Ribeira Lisboa foi palco\, dia 25 novembro\, do “Chef pelo Dão”\, showcooking em que os convidados\, influencers\, jornalistas e entidades públicas\, partilharam a bancada com os autarcas do Dão/ADD (Aguiar da Beira\, Nelas\, Mangualde\, Penalva do Castelo e Sátão)\, liderados pelo Chefe Henrique Ferreira.\n\nEsta ação decorreu no âmbito de uma atividade de promoção prevista no projeto “Dão Emoções”\, financiado pela Linha de Apoio à Valorização Turística do Interior\, que tem como objetivo valorizar e promover os produtos endógenos e a oferta turística da região.\n\nO “Dão Emoções” representa um importante passo na promoção e valorização do território\, proporcionando uma experiência multissensorial e inovadora que coloca o Dão no mapa do turismo nacional e internacional.\n\nVISIT NELAS CORAÇÃO DO DÃO… O CAMINHO COMEÇA AQUI
URL:https://www.visitnelascoracaododao.pt/agenda-evento/projeto-dao-emocoes/
LOCATION:Lisboa\, Portugal
CATEGORIES:evento,showcooking
ATTACH;FMTTYPE=image/jpeg:https://www.visitnelascoracaododao.pt/wp-content/uploads/2024/11/468311396_1067548991825264_7979620629101780083_n.jpg
END:VEVENT
END:VCALENDAR