BEGIN:VCALENDAR
VERSION:2.0
PRODID:-//Visit Nelas Coração do Dão - ECPv6.15.15//NONSGML v1.0//EN
CALSCALE:GREGORIAN
METHOD:PUBLISH
X-WR-CALNAME:Visit Nelas Coração do Dão
X-ORIGINAL-URL:https://www.visitnelascoracaododao.pt
X-WR-CALDESC:Eventos para Visit Nelas Coração do Dão
REFRESH-INTERVAL;VALUE=DURATION:PT1H
X-Robots-Tag:noindex
X-PUBLISHED-TTL:PT1H
BEGIN:VTIMEZONE
TZID:UTC
BEGIN:STANDARD
TZOFFSETFROM:+0000
TZOFFSETTO:+0000
TZNAME:UTC
DTSTART:20230101T000000
END:STANDARD
END:VTIMEZONE
BEGIN:VEVENT
DTSTART;TZID=UTC:20241017T080000
DTEND;TZID=UTC:20241017T170000
DTSTAMP:20260421T021343
CREATED:20241017T142447Z
LAST-MODIFIED:20241017T144507Z
UID:10000087-1729152000-1729184400@www.visitnelascoracaododao.pt
SUMMARY:𝐄𝐬𝐭𝐞 𝐒𝐚́𝐛𝐚𝐝𝐨 𝐡𝐚́ 𝐂𝐨𝐧𝐭𝐨𝐬! 𝐇𝐢𝐬𝐭𝐨́𝐫𝐢𝐚𝐬 𝐜𝐨𝐦 𝐌𝐮́𝐬𝐢𝐜𝐚 
DESCRIPTION:𝐄𝐬𝐭𝐞 𝐒𝐚́𝐛𝐚𝐝𝐨 𝐡𝐚́ 𝐂𝐨𝐧𝐭𝐨𝐬! 𝐇𝐢𝐬𝐭𝐨́𝐫𝐢𝐚𝐬 𝐜𝐨𝐦 𝐌𝐮́𝐬𝐢𝐜𝐚\n\n\n\nO Gaspar está de volta à sua casa\, a Biblioteca Municipal de Nelas\, com o Óscar\, a sua oficina e todos os amigos! Venham fazer parte do Clube do Gaspar e divertir-se com as crianças num espetáculo cheio de histórias\, música e muita animação.\nDepois\, vamos meter as mãos à obra com um atelier de construção de instrumentos de percussão!\n\n\n\n𝐃𝐀́-𝐋𝐇𝐄 𝐆𝐀́𝐒 𝐍𝐀 𝐂𝐀𝐒𝐀 𝐃𝐎 𝐆𝐀𝐒𝐏𝐀𝐑!\n𝐒𝐚́𝐛𝐚𝐝𝐨\, 𝟐𝟔 𝐝𝐞 𝐨𝐮𝐭𝐮𝐛𝐫𝐨 | 𝟏𝟎𝐡𝟑𝟎\n𝐁𝐢𝐛𝐥𝐢𝐨𝐭𝐞𝐜𝐚 𝐌𝐮𝐧𝐢𝐜𝐢𝐩𝐚𝐥 𝐀𝐧𝐭𝐨́𝐧𝐢𝐨 𝐋𝐨𝐛𝐨 𝐀𝐧𝐭𝐮𝐧𝐞𝐬\n\n\n𝐷𝑖𝑟𝑖𝑔𝑖𝑑𝑜 𝑎 𝑐𝑟𝑖𝑎𝑛𝑐̧𝑎𝑠 𝑑𝑜𝑠 3 𝑎𝑜𝑠 7 𝑎𝑛𝑜𝑠\, 𝑎𝑐𝑜𝑚𝑝𝑎𝑛ℎ𝑎𝑑𝑎𝑠 𝑝𝑜𝑟 𝑢𝑚 𝑎𝑑𝑢𝑙𝑡𝑜.\n𝑉𝑎𝑔𝑎𝑠 𝑙𝑖𝑚𝑖𝑡𝑎𝑑𝑎𝑠 𝑎 15 𝑐𝑟𝑖𝑎𝑛𝑐̧𝑎𝑠 + 1 𝑎𝑑𝑢𝑙𝑡𝑜 𝑝𝑜𝑟 𝑐𝑟𝑖𝑎𝑛𝑐̧𝑎.\n\n\n𝐈𝐧𝐬𝐜𝐫𝐢𝐜̧𝐨̃𝐞𝐬 𝐨𝐛𝐫𝐢𝐠𝐚𝐭𝐨́𝐫𝐢𝐚𝐬 𝐚𝐭𝐞́ 𝟐𝟑 𝐝𝐞 𝐨𝐮𝐭𝐮𝐛𝐫𝐨:\nhttps://forms.gle/eVHqk1LHQnv2hM9d7\n\n\n\nBiblioteca Municipal António Lobo Antunes\nTelefone | 232 940 141\nSegunda a Sexta – 09h00 às 18h00\nSábados – 14h30 às 18h00\n\n\nMais eventos
URL:https://www.visitnelascoracaododao.pt/agenda-evento/%f0%9d%90%84%f0%9d%90%ac%f0%9d%90%ad%f0%9d%90%9e-%f0%9d%90%92%f0%9d%90%9a%f0%9d%90%9b%f0%9d%90%9a%f0%9d%90%9d%f0%9d%90%a8-%f0%9d%90%a1%f0%9d%90%9a-%f0%9d%90%82%f0%9d%90%a8%f0%9d%90%a7/
CATEGORIES:Biblioteca Municipal,Crianças,Sessões de Contos
ATTACH;FMTTYPE=image/jpeg:https://www.visitnelascoracaododao.pt/wp-content/uploads/2024/10/animacao-familias-26-outubro.jpg
END:VEVENT
END:VCALENDAR