BEGIN:VCALENDAR
VERSION:2.0
PRODID:-//Visit Nelas Coração do Dão - ECPv6.15.15//NONSGML v1.0//EN
CALSCALE:GREGORIAN
METHOD:PUBLISH
X-WR-CALNAME:Visit Nelas Coração do Dão
X-ORIGINAL-URL:https://www.visitnelascoracaododao.pt
X-WR-CALDESC:Eventos para Visit Nelas Coração do Dão
REFRESH-INTERVAL;VALUE=DURATION:PT1H
X-Robots-Tag:noindex
X-PUBLISHED-TTL:PT1H
BEGIN:VTIMEZONE
TZID:UTC
BEGIN:STANDARD
TZOFFSETFROM:+0000
TZOFFSETTO:+0000
TZNAME:UTC
DTSTART:20230101T000000
END:STANDARD
END:VTIMEZONE
BEGIN:VEVENT
DTSTART;TZID=UTC:20241117T083000
DTEND;TZID=UTC:20241117T190000
DTSTAMP:20260420T220448
CREATED:20241018T140758Z
LAST-MODIFIED:20241018T144051Z
UID:10000088-1731832200-1731870000@www.visitnelascoracaododao.pt
SUMMARY:Passeio 4x4 de Outono\, na Aguieira
DESCRIPTION:Prepare-se para o Passeio 4×4 de Outono\, a 17 de novembro\, com aventura\, paisagens deslumbrantes e um delicioso almoço. Inscreva-se e viva esta experiência única! \nProgramação do Dia:\n\n8h30 – Secretariado e receção dos participantes\n10h30 – Pausa para reforço\n13h00 – Almoço\n\nEmenta do Almoço:\n\nRancho\nSobremesas variadas\nCafé\n\nApenas Almoço: \n\nSócio: 8€\nNão sócio: 11€\nCrianças (6 a 12 anos): 5€\n\nPasseio 4×4 + Reforço + Almoço: \n\nSócio – Condutor: 12€\nNão sócio – Condutor: 15€\nSócio – Acompanhante: 10€\nNão sócio – Acompanhante: 13€\n\nEste é o evento de aventura e boa comida! Inscreva-se!  \nMais eventos
URL:https://www.visitnelascoracaododao.pt/agenda-evento/passeio-4x4-de-outono-na-aguieira/
CATEGORIES:Aguieira,Outono,Passeio 4x4
ATTACH;FMTTYPE=image/jpeg:https://www.visitnelascoracaododao.pt/wp-content/uploads/2024/10/Passeio-4x4-de-Outono-na-Aguieira.jpg
END:VEVENT
BEGIN:VEVENT
DTSTART;TZID=UTC:20241117T150000
DTEND;TZID=UTC:20241117T233000
DTSTAMP:20260420T220448
CREATED:20241125T093026Z
LAST-MODIFIED:20241125T093026Z
UID:10000102-1731855600-1731886200@www.visitnelascoracaododao.pt
SUMMARY:Magusto 2024 em Vilar Seco
DESCRIPTION:Magusto do Rancho de Vilar Seco\nConvidamos todos vós a aparecer em Vilar Seco para participar no nosso magusto no dia 17 de Novembro junto ao Cristo Rei a partir das 15h00\,  acompanhado com uma boa animação musical através da atuação dos Bombos do Paço. \n Não falte a este imperdível convívio organizado pelo Rancho de Vilar Seco!    \n\n\nMunicípio de Nelas\n\nVISIT NELAS CORAÇÃO DO DÃO… O CAMINHO COMEÇA AQUI
URL:https://www.visitnelascoracaododao.pt/agenda-evento/magusto-2024-em-vilar-seco/
LOCATION:Vilar Seco
CATEGORIES:Outono,Vilar Seco~
ATTACH;FMTTYPE=image/jpeg:https://www.visitnelascoracaododao.pt/wp-content/uploads/2024/11/rancho-de-vilar-seco.jpg
END:VEVENT
BEGIN:VEVENT
DTSTART;TZID=UTC:20241117T150000
DTEND;TZID=UTC:20241117T233000
DTSTAMP:20260420T220448
CREATED:20241125T095128Z
LAST-MODIFIED:20241125T095128Z
UID:10000103-1731855600-1731886200@www.visitnelascoracaododao.pt
SUMMARY:Magusto 2024
DESCRIPTION:Magusto da Associação Recreativa\, Cultural\, Social e Desportiva de Aguieira\nConvidamos todos vós a aparecer na aldeia da Aguieira para participar no nosso magusto no dia 17 de Novembro a partir das 16h30. \n Não falte a este imperdível convívio organizado pela ARCSD de Aguieira.\n \n\n\nMunicípio de Nelas\n\nVISIT NELAS CORAÇÃO DO DÃO… O CAMINHO COMEÇA AQUI
URL:https://www.visitnelascoracaododao.pt/agenda-evento/magusto-2024/
LOCATION:aguieira
CATEGORIES:Outono,Vilar Seco~
ATTACH;FMTTYPE=image/jpeg:https://www.visitnelascoracaododao.pt/wp-content/uploads/2024/11/Aguieira.jpg
END:VEVENT
END:VCALENDAR