BEGIN:VCALENDAR
VERSION:2.0
PRODID:-//Visit Nelas Coração do Dão - ECPv6.15.15//NONSGML v1.0//EN
CALSCALE:GREGORIAN
METHOD:PUBLISH
X-ORIGINAL-URL:https://www.visitnelascoracaododao.pt
X-WR-CALDESC:Eventos para Visit Nelas Coração do Dão
REFRESH-INTERVAL;VALUE=DURATION:PT1H
X-Robots-Tag:noindex
X-PUBLISHED-TTL:PT1H
BEGIN:VTIMEZONE
TZID:UTC
BEGIN:STANDARD
TZOFFSETFROM:+0000
TZOFFSETTO:+0000
TZNAME:UTC
DTSTART:20230101T000000
END:STANDARD
END:VTIMEZONE
BEGIN:VEVENT
DTSTART;TZID=UTC:20241109T210000
DTEND;TZID=UTC:20241109T233000
DTSTAMP:20260420T201616
CREATED:20241125T085251Z
LAST-MODIFIED:20241125T085251Z
UID:10000100-1731186000-1731195000@www.visitnelascoracaododao.pt
SUMMARY:Magusto na Associação do Folhadal
DESCRIPTION:Magusto\nA Associação do Folhadal convida todos vós a participar no nosso magusto no dia 09 de Novembro às  21 horas. \nNo dia de S. Martinho\, castanhas\, pão e vinho.   \n\n\nMunicípio de Nelas\n\nVISIT NELAS CORAÇÃO DO DÃO… O CAMINHO COMEÇA AQUI
URL:https://www.visitnelascoracaododao.pt/agenda-evento/magusto-na-associacao-do-folhadal/
LOCATION:Folhadal
CATEGORIES:Outono
ATTACH;FMTTYPE=image/jpeg:https://www.visitnelascoracaododao.pt/wp-content/uploads/2024/11/Folhadal.jpg
END:VEVENT
BEGIN:VEVENT
DTSTART;TZID=UTC:20241110T123000
DTEND;TZID=UTC:20241110T233000
DTSTAMP:20260420T201616
CREATED:20241125T091717Z
LAST-MODIFIED:20241125T091717Z
UID:10000101-1731241800-1731281400@www.visitnelascoracaododao.pt
SUMMARY:Magusto em Santar
DESCRIPTION:Magusto de São Martinho\nConvidamos todos vós a aparecer na Vila de Santar para participar no nosso magusto no dia 10 de Novembro no largo da Igreja a partir do 12h30\, servimos pernil e caldo verde sempre acompanhado com uma boa animação musical. \nA partir das 15h00 teremos a Recriação da Lenda de S. Martinho. Não falte!    \n\n\nMunicípio de Nelas\n\nVISIT NELAS CORAÇÃO DO DÃO… O CAMINHO COMEÇA AQUI
URL:https://www.visitnelascoracaododao.pt/agenda-evento/magusto-em-santar/
LOCATION:Santar
CATEGORIES:Outono
ATTACH;FMTTYPE=image/jpeg:https://www.visitnelascoracaododao.pt/wp-content/uploads/2024/11/464546149_10160990958278773_1065050034776687364_n.jpg
END:VEVENT
BEGIN:VEVENT
DTSTART;TZID=UTC:20241110T150000
DTEND;TZID=UTC:20241110T233000
DTSTAMP:20260420T201616
CREATED:20241125T134816Z
LAST-MODIFIED:20241125T135413Z
UID:10000110-1731250800-1731281400@www.visitnelascoracaododao.pt
SUMMARY:Magusto 2024 em Vila Ruiva
DESCRIPTION:Magusto do Rancho de Vilar Seco\nConvidamos todos vós a aparecer em Vila Ruiva para participar no nosso magusto no dia 10 de Novembro na Associação a partir das 16h30. \n Não falte a este imperdível convívio organizado pelo CSDCR de Vila Ruiva!    \n\n\nMunicípio de Nelas\n\nVISIT NELAS CORAÇÃO DO DÃO… O CAMINHO COMEÇA AQUI
URL:https://www.visitnelascoracaododao.pt/agenda-evento/magusto-2024-em-vila-ruiva/
LOCATION:Vila Ruiva
CATEGORIES:Magusto,Outono
ATTACH;FMTTYPE=image/jpeg:https://www.visitnelascoracaododao.pt/wp-content/uploads/2024/11/465789504_122118438872521927_3379912419385846720_n.jpg
END:VEVENT
BEGIN:VEVENT
DTSTART;TZID=UTC:20241110T150000
DTEND;TZID=UTC:20241110T233000
DTSTAMP:20260420T201616
CREATED:20241125T140605Z
LAST-MODIFIED:20241125T140605Z
UID:10000111-1731250800-1731281400@www.visitnelascoracaododao.pt
SUMMARY:Magusto 2024
DESCRIPTION:Magusto da ARC das Caldas da Felgueira\nConvidamos todos vós a aparecer nas Caldas da Felgueira para participar no nosso magusto no dia 10 de Novembro na Sede da  Associação a partir das 15h00. \n Não falte a este imperdível convívio organizado pela ARC das Caldas da Felgueira!    \n\n\nMunicípio de Nelas\n\nVISIT NELAS CORAÇÃO DO DÃO… O CAMINHO COMEÇA AQUI
URL:https://www.visitnelascoracaododao.pt/agenda-evento/magusto-2024-2/
LOCATION:Caldas da Felgueira
CATEGORIES:Magusto,Outono
ATTACH;FMTTYPE=image/jpeg:https://www.visitnelascoracaododao.pt/wp-content/uploads/2024/11/465222553_900989468798259_2071356089392274353_n.jpg
END:VEVENT
BEGIN:VEVENT
DTSTART;TZID=UTC:20241115T080000
DTEND;TZID=UTC:20241115T170000
DTSTAMP:20260420T201616
CREATED:20241125T141904Z
LAST-MODIFIED:20241125T141904Z
UID:10000112-1731657600-1731690000@www.visitnelascoracaododao.pt
SUMMARY:Magusto 2024
DESCRIPTION:Feira de Outono \nO centro escolar de Nelas organiza no dia 15 de novembro pelas 10h30 a sua Feira de Outono e que será um evento aberto para toda a comunidade. Apareçam! \nVISIT NELAS CORAÇÃO DO DÃO… O CAMINHO COMEÇA AQUI  \nMunicípio de Nelas \n  \n 
URL:https://www.visitnelascoracaododao.pt/agenda-evento/magusto-2024-3/
LOCATION:Centro Escolar de Nelas
CATEGORIES:Magusto,Outono
ATTACH;FMTTYPE=image/jpeg:https://www.visitnelascoracaododao.pt/wp-content/uploads/2024/11/465908171_9058260290891213_5244533836629505727_n.jpg
END:VEVENT
BEGIN:VEVENT
DTSTART;TZID=UTC:20241117T083000
DTEND;TZID=UTC:20241117T190000
DTSTAMP:20260420T201616
CREATED:20241018T140758Z
LAST-MODIFIED:20241018T144051Z
UID:10000088-1731832200-1731870000@www.visitnelascoracaododao.pt
SUMMARY:Passeio 4x4 de Outono\, na Aguieira
DESCRIPTION:Prepare-se para o Passeio 4×4 de Outono\, a 17 de novembro\, com aventura\, paisagens deslumbrantes e um delicioso almoço. Inscreva-se e viva esta experiência única! \nProgramação do Dia:\n\n8h30 – Secretariado e receção dos participantes\n10h30 – Pausa para reforço\n13h00 – Almoço\n\nEmenta do Almoço:\n\nRancho\nSobremesas variadas\nCafé\n\nApenas Almoço: \n\nSócio: 8€\nNão sócio: 11€\nCrianças (6 a 12 anos): 5€\n\nPasseio 4×4 + Reforço + Almoço: \n\nSócio – Condutor: 12€\nNão sócio – Condutor: 15€\nSócio – Acompanhante: 10€\nNão sócio – Acompanhante: 13€\n\nEste é o evento de aventura e boa comida! Inscreva-se!  \nMais eventos
URL:https://www.visitnelascoracaododao.pt/agenda-evento/passeio-4x4-de-outono-na-aguieira/
CATEGORIES:Aguieira,Outono,Passeio 4x4
ATTACH;FMTTYPE=image/jpeg:https://www.visitnelascoracaododao.pt/wp-content/uploads/2024/10/Passeio-4x4-de-Outono-na-Aguieira.jpg
END:VEVENT
BEGIN:VEVENT
DTSTART;TZID=UTC:20241117T150000
DTEND;TZID=UTC:20241117T233000
DTSTAMP:20260420T201616
CREATED:20241125T093026Z
LAST-MODIFIED:20241125T093026Z
UID:10000102-1731855600-1731886200@www.visitnelascoracaododao.pt
SUMMARY:Magusto 2024 em Vilar Seco
DESCRIPTION:Magusto do Rancho de Vilar Seco\nConvidamos todos vós a aparecer em Vilar Seco para participar no nosso magusto no dia 17 de Novembro junto ao Cristo Rei a partir das 15h00\,  acompanhado com uma boa animação musical através da atuação dos Bombos do Paço. \n Não falte a este imperdível convívio organizado pelo Rancho de Vilar Seco!    \n\n\nMunicípio de Nelas\n\nVISIT NELAS CORAÇÃO DO DÃO… O CAMINHO COMEÇA AQUI
URL:https://www.visitnelascoracaododao.pt/agenda-evento/magusto-2024-em-vilar-seco/
LOCATION:Vilar Seco
CATEGORIES:Outono,Vilar Seco~
ATTACH;FMTTYPE=image/jpeg:https://www.visitnelascoracaododao.pt/wp-content/uploads/2024/11/rancho-de-vilar-seco.jpg
END:VEVENT
BEGIN:VEVENT
DTSTART;TZID=UTC:20241117T150000
DTEND;TZID=UTC:20241117T233000
DTSTAMP:20260420T201616
CREATED:20241125T095128Z
LAST-MODIFIED:20241125T095128Z
UID:10000103-1731855600-1731886200@www.visitnelascoracaododao.pt
SUMMARY:Magusto 2024
DESCRIPTION:Magusto da Associação Recreativa\, Cultural\, Social e Desportiva de Aguieira\nConvidamos todos vós a aparecer na aldeia da Aguieira para participar no nosso magusto no dia 17 de Novembro a partir das 16h30. \n Não falte a este imperdível convívio organizado pela ARCSD de Aguieira.\n \n\n\nMunicípio de Nelas\n\nVISIT NELAS CORAÇÃO DO DÃO… O CAMINHO COMEÇA AQUI
URL:https://www.visitnelascoracaododao.pt/agenda-evento/magusto-2024/
LOCATION:aguieira
CATEGORIES:Outono,Vilar Seco~
ATTACH;FMTTYPE=image/jpeg:https://www.visitnelascoracaododao.pt/wp-content/uploads/2024/11/Aguieira.jpg
END:VEVENT
END:VCALENDAR