BEGIN:VCALENDAR
VERSION:2.0
PRODID:-//Visit Nelas Coração do Dão - ECPv6.15.15//NONSGML v1.0//EN
CALSCALE:GREGORIAN
METHOD:PUBLISH
X-WR-CALNAME:Visit Nelas Coração do Dão
X-ORIGINAL-URL:https://www.visitnelascoracaododao.pt
X-WR-CALDESC:Eventos para Visit Nelas Coração do Dão
REFRESH-INTERVAL;VALUE=DURATION:PT1H
X-Robots-Tag:noindex
X-PUBLISHED-TTL:PT1H
BEGIN:VTIMEZONE
TZID:UTC
BEGIN:STANDARD
TZOFFSETFROM:+0000
TZOFFSETTO:+0000
TZNAME:UTC
DTSTART:20240101T000000
END:STANDARD
END:VTIMEZONE
BEGIN:VEVENT
DTSTART;TZID=UTC:20250601T150000
DTEND;TZID=UTC:20250601T170000
DTSTAMP:20260422T015139
CREATED:20250530T150136Z
LAST-MODIFIED:20250530T150136Z
UID:10000266-1748790000-1748797200@www.visitnelascoracaododao.pt
SUMMARY:AIRSOFT na ADRC Cimo do Povo Nelas
DESCRIPTION:No próximo dia 1 de junho AIRSOFT às 15h na ADRC Cimo do Povo Nelas! \nPara mais informações: www.facebook.com/adrccimodopovonelas
URL:https://www.visitnelascoracaododao.pt/agenda-evento/airsoft-na-adrc-cimo-do-povo-nelas/
LOCATION:ADRC Cimo do Povo Nelas
CATEGORIES:Associativismo,Nelas
ATTACH;FMTTYPE=image/jpeg:https://www.visitnelascoracaododao.pt/wp-content/uploads/2025/05/494723272_733777249004368_4380305968413887130_n.jpg
END:VEVENT
BEGIN:VEVENT
DTSTART;TZID=UTC:20250612T220000
DTEND;TZID=UTC:20250612T233000
DTSTAMP:20260422T015139
CREATED:20250604T134428Z
LAST-MODIFIED:20250604T134428Z
UID:10000275-1749765600-1749771000@www.visitnelascoracaododao.pt
SUMMARY:Arraial Santo António
DESCRIPTION:Dia 12 de Junho noite de St.António\n\n\n\nDesfile e dança da marcha do Bairro da Igreja\nDesfile da marcha do Cimo do Povo\n\n\n\nÀs 22h junto à Fonte St.António\n\n\n\nDe seguida temos a tradicional sardinha na sede da Associação do Bairro da Igreja\n\n\n\nContamos com todos vocês!
URL:https://www.visitnelascoracaododao.pt/agenda-evento/arraial-santo-antonio/
CATEGORIES:Associativismo,Nelas
ATTACH;FMTTYPE=image/jpeg:https://www.visitnelascoracaododao.pt/wp-content/uploads/2025/06/503712307_1095690235918048_2908843789615564974_n.jpg
END:VEVENT
END:VCALENDAR