BEGIN:VCALENDAR
VERSION:2.0
PRODID:-//Visit Nelas Coração do Dão - ECPv6.15.15//NONSGML v1.0//EN
CALSCALE:GREGORIAN
METHOD:PUBLISH
X-WR-CALNAME:Visit Nelas Coração do Dão
X-ORIGINAL-URL:https://www.visitnelascoracaododao.pt
X-WR-CALDESC:Eventos para Visit Nelas Coração do Dão
REFRESH-INTERVAL;VALUE=DURATION:PT1H
X-Robots-Tag:noindex
X-PUBLISHED-TTL:PT1H
BEGIN:VTIMEZONE
TZID:UTC
BEGIN:STANDARD
TZOFFSETFROM:+0000
TZOFFSETTO:+0000
TZNAME:UTC
DTSTART:20240101T000000
END:STANDARD
END:VTIMEZONE
BEGIN:VEVENT
DTSTART;TZID=UTC:20250208T190000
DTEND;TZID=UTC:20250208T203000
DTSTAMP:20260420T135719
CREATED:20250208T150417Z
LAST-MODIFIED:20250208T150417Z
UID:10000157-1739041200-1739046600@www.visitnelascoracaododao.pt
SUMMARY:𝐌𝐢𝐬𝐬𝐚̃𝐨 𝐏𝐚𝐢́𝐬: 𝐓𝐞𝐚𝐭𝐫𝐨 𝐀𝐛𝐞𝐫𝐭𝐨 𝐚̀ 𝐜𝐨𝐦𝐮𝐧𝐢𝐝𝐚𝐝𝐞 𝐞𝐬𝐭𝐞 𝐬𝐚́𝐛𝐚𝐝𝐨\, 𝐝𝐢𝐚 𝟖 𝐟𝐞𝐯𝐞𝐫𝐞𝐢𝐫𝐨\, 𝐧𝐨 𝐀𝐮𝐝𝐢𝐭𝐨́𝐫𝐢𝐨 𝐝𝐨 𝐄𝐝𝐢𝐟𝐢́𝐜𝐢𝐨 𝐌𝐮𝐥𝐭𝐢𝐮𝐬𝐨𝐬 𝐝𝐞 𝐍𝐞𝐥𝐚𝐬
DESCRIPTION:Pelo terceiro ano consecutivo\, o Município de Nelas e as Paróquias de Nelas e de Canas de Senhorim associam-se à Missão País\, um projeto católico de jovens voluntários da Universidade do Porto que durante uma semana\, vão estar em todas as IPSS’S do Concelho\, lares\, centros de dia\, creches e jardins de infância\, em atividades diversas\, que prometem muito convívio\, solidariedade social\, momentos de partilha e acolhimento. \nNo sábado\, dia 8 de fevereiro\, pelas 19h00\, no Auditório do Edifício Multiusos de Nelas\, tem lugar a apresentação de teatro “Regai por Nós”\, o ponto alto de uma semana que reflete compromisso e serviço em prol da comunidade.Este Grupo de Voluntários\, que visita Nelas pela última vez\, conta com a presença e o apoio de todos nesta atividade tão significativa. Esperamos por si! Auditório do Edifício Multiusos de Nelas19h00Entrada livre! \n  \nVISIT NELAS CORAÇÃO DO DÃO… O CAMINHO COMEÇA AQUI \nMunicípio de Nelas \n#MissaoPais2025 #Nelas #ComunidadeUnida #cultura #coracaododoa #municipiodenelas #missionarios
URL:https://www.visitnelascoracaododao.pt/agenda-evento/%f0%9d%90%8c%f0%9d%90%a2%f0%9d%90%ac%f0%9d%90%ac%f0%9d%90%9a%cc%83%f0%9d%90%a8-%f0%9d%90%8f%f0%9d%90%9a%f0%9d%90%a2%f0%9d%90%ac-%f0%9d%90%93%f0%9d%90%9e%f0%9d%90%9a%f0%9d%90%ad%f0%9d%90%ab/
LOCATION:Cineteatro de Nelas
CATEGORIES:Missão País
ATTACH;FMTTYPE=image/jpeg:https://www.visitnelascoracaododao.pt/wp-content/uploads/2025/02/476352608_1097169219109138_1261736095199110674_n.jpg
END:VEVENT
BEGIN:VEVENT
DTSTART;TZID=UTC:20250208T190000
DTEND;TZID=UTC:20250208T203000
DTSTAMP:20260420T135719
CREATED:20250208T151044Z
LAST-MODIFIED:20250208T151044Z
UID:10000158-1739041200-1739046600@www.visitnelascoracaododao.pt
SUMMARY:𝐌𝐢𝐬𝐬𝐚̃𝐨 𝐏𝐚𝐢́𝐬: 𝐀𝐦𝐚𝐧𝐡𝐚̃\, 𝐧𝐚̃𝐨 𝐩𝐞𝐫𝐜𝐚 𝐚 𝐩𝐞𝐜̧𝐚 "𝐑𝐞𝐠𝐚𝐢 𝐩𝐨𝐫 𝐍𝐨́𝐬"\, 𝐧𝐨 𝐀𝐮𝐝𝐢𝐭𝐨́𝐫𝐢𝐨 𝐝𝐨 𝐄𝐝𝐢𝐟𝐢́𝐜𝐢𝐨 𝐌𝐮𝐥𝐭𝐢𝐮𝐬𝐨𝐬 𝐝𝐞 𝐍𝐞𝐥𝐚𝐬
DESCRIPTION:Amanhã\, pelas 19h00\, sobe ao palco do Auditório do Edifício Multiusos de Nelas a peça “Regai por Nós”\, apresentada pela Missão País\, e que conta com o apoio do Município de Nelas e as Paróquias de Nelas e de Canas de Senhorim\n\n\n\n\n\nEsta apresentação encerra uma semana de serviço em prol da comunidade pelo grupo de jovens voluntários da Universidade do Porto que pelo terceiro ano consecutivo\, visitaram todas as IPSS’S do Concelho\, lares\, centros de dia\, creches e jardins de infância\, promovendo atividades diversas\, que trouxeram muito convívio\, solidariedade social\, momentos de partilha e acolhimento.\n\n\nEste Grupo de Voluntários\, que visita Nelas pela última vez\, conta com a presença e o apoio de todos nesta atividade tão significativa. Esperamos por si!\n\n\n\n Auditório do Edifício Multiusos de Nelas\n19h00\nEntrada livre!\n\n\nVISIT NELAS CORAÇÃO DO DÃO… O CAMINHO COMEÇA AQUI\n\nMunicípio de Nelas\n\n\n    \n\n\n\n\n#MissaoPais2025 #Nelas #ComunidadeUnida #cultura #coracaododao #municipiodenelas #missionarios
URL:https://www.visitnelascoracaododao.pt/agenda-evento/%f0%9d%90%8c%f0%9d%90%a2%f0%9d%90%ac%f0%9d%90%ac%f0%9d%90%9a%cc%83%f0%9d%90%a8-%f0%9d%90%8f%f0%9d%90%9a%f0%9d%90%a2%f0%9d%90%ac-%f0%9d%90%80%f0%9d%90%a6%f0%9d%90%9a%f0%9d%90%a7%f0%9d%90%a1/
LOCATION:Edifício Multiusos
CATEGORIES:Missão País
ATTACH;FMTTYPE=image/jpeg:https://www.visitnelascoracaododao.pt/wp-content/uploads/2025/02/476352608_1097169219109138_1261736095199110674_n.jpg
END:VEVENT
END:VCALENDAR