BEGIN:VCALENDAR
VERSION:2.0
PRODID:-//Visit Nelas Coração do Dão - ECPv6.15.15//NONSGML v1.0//EN
CALSCALE:GREGORIAN
METHOD:PUBLISH
X-ORIGINAL-URL:https://www.visitnelascoracaododao.pt
X-WR-CALDESC:Eventos para Visit Nelas Coração do Dão
REFRESH-INTERVAL;VALUE=DURATION:PT1H
X-Robots-Tag:noindex
X-PUBLISHED-TTL:PT1H
BEGIN:VTIMEZONE
TZID:UTC
BEGIN:STANDARD
TZOFFSETFROM:+0000
TZOFFSETTO:+0000
TZNAME:UTC
DTSTART:20230101T000000
END:STANDARD
END:VTIMEZONE
BEGIN:VEVENT
DTSTART;TZID=UTC:20241024T090000
DTEND;TZID=UTC:20241026T190000
DTSTAMP:20260421T031502
CREATED:20241017T140617Z
LAST-MODIFIED:20241017T141821Z
UID:10000086-1729760400-1729969200@www.visitnelascoracaododao.pt
SUMMARY:FETI - Feira de Emprego Técnico do Interior
DESCRIPTION:Feira de Emprego Técnico do Interior\nA 𝐈𝐍𝐭𝐞𝐫𝐢𝐨𝐫𝐢𝐳𝐚-𝐭𝐞\, associação que promove a consciencialização de gerações novas quanto à descentralização do interior do país\, desenhou um evento com o intuito de juntar jovens\, emprego\, empresas e instituições de ensino\, que acontece nos próximos dias 𝟐𝟒 𝐞 𝟐𝟓 𝐝𝐞 𝐨𝐮𝐭𝐮𝐛𝐫𝐨\, 𝐧𝐨 𝐌𝐞𝐫𝐜𝐚𝐝𝐨 𝐌𝐮𝐧𝐢𝐜𝐢𝐩𝐚𝐥 𝐝𝐞 𝐍𝐞𝐥𝐚s. Já no dia 𝟐𝟔 𝐝𝐞 𝐨𝐮𝐭𝐮𝐛𝐫𝐨\, numa parceria com a Rural Move\, movimento-plataforma de dinamização dos territórios rurais e de apoio a quem neles quer viver\, trabalhar ou investir\, 𝐢𝐫𝐚́ 𝐚𝐜𝐨𝐧𝐭𝐞𝐜𝐞𝐫 𝐨 𝟏𝐨 𝐄𝐧𝐜𝐨𝐧𝐭𝐫𝐨 𝐑𝐮𝐫𝐚𝐥 𝐄𝐦 𝐌𝐨𝐯𝐢𝐦𝐞𝐧𝐭𝐨. \n\nA FETI tem como objetivo combater o êxodo das regiões do interior de Portugal por parte dos jovens\, apresentando-lhes oportunidades de formação superior e emprego. Durante dois dias\, o evento contará com a presença de diversas empresas regionais e instituições de ensino\, como o Instituto Politécnico de Viseu\, a Universidade Católica Portuguesa\, o Instituto Piaget\, a Escola Profissional Projeto Plural\, a Escola Profissional da Serra da Estrela e a Escola Profissional Mariana Seixas\, além de entidades como a AIRV (Associação Empresarial de Viseu)\, o IEFP (Instituto de Emprego e Formação Profissional)\, a AHRESP e a FCOPT. No setor industrial\, destacam-se empresas como Randstad\, Luso Finsa\, Adecco\, Meivcore\, QBeiras Energia e Multipessoal. \nA INterioriza-te não só promoverá uma área de exposição\, como também organizará workshops\, tertúlias e apresentações de incubadoras e empresas\, com o intuito de fomentar colaborações entre empregadores e jovens. \n\n\n\n\n\nDIA 24 OUTUBRO\n\n\n10h00: Sessão de abertura.\n11h45: Momento musical com os alunos da EPSE e Escola Evaristo Nogueira.\n11h00: Aposta na tua formação superior: IPV o próximo desafio.\n12h00: Apresentação de evento QBeiras Consultoria: Sustentabilidade no setor vitivinícola\n14h00: Promoção da saude mental e regulação emocional pelo Instituto Piaget\n15h00: Relações Internacionais no Instituto Piaget\n16h00: Apresentação da empresa LUSOFINSA.\n\n\n\nDIA 25 OUTUBRO\n10h00: Apresentação da empresa Meivcore.\n10h30: Empreendorismo social pela Rural Move.\n11h00: Apresentação da empresa Randstad.\n11h30: Introdução à poupança e gestão financeira pessoal pela FCOPT.\n14h00: Comunicação assertiva e técnicas de procura de emprego\, pelo IEFP.\n\n\nMais eventos
URL:https://www.visitnelascoracaododao.pt/agenda-evento/feti-feira-de-emprego-tecnico-do-interior/
CATEGORIES:Educação,Feira de Emprego,FETI
ATTACH;FMTTYPE=image/jpeg:https://www.visitnelascoracaododao.pt/wp-content/uploads/2024/10/FETI-e1729177310869.jpg
END:VEVENT
END:VCALENDAR