BEGIN:VCALENDAR
VERSION:2.0
PRODID:-//Visit Nelas Coração do Dão - ECPv6.15.15//NONSGML v1.0//EN
CALSCALE:GREGORIAN
METHOD:PUBLISH
X-ORIGINAL-URL:https://www.visitnelascoracaododao.pt
X-WR-CALDESC:Eventos para Visit Nelas Coração do Dão
REFRESH-INTERVAL;VALUE=DURATION:PT1H
X-Robots-Tag:noindex
X-PUBLISHED-TTL:PT1H
BEGIN:VTIMEZONE
TZID:Europe/Paris
BEGIN:DAYLIGHT
TZOFFSETFROM:+0100
TZOFFSETTO:+0200
TZNAME:CEST
DTSTART:20250330T010000
END:DAYLIGHT
BEGIN:STANDARD
TZOFFSETFROM:+0200
TZOFFSETTO:+0100
TZNAME:CET
DTSTART:20251026T010000
END:STANDARD
BEGIN:DAYLIGHT
TZOFFSETFROM:+0100
TZOFFSETTO:+0200
TZNAME:CEST
DTSTART:20260329T010000
END:DAYLIGHT
BEGIN:STANDARD
TZOFFSETFROM:+0200
TZOFFSETTO:+0100
TZNAME:CET
DTSTART:20261025T010000
END:STANDARD
BEGIN:DAYLIGHT
TZOFFSETFROM:+0100
TZOFFSETTO:+0200
TZNAME:CEST
DTSTART:20270328T010000
END:DAYLIGHT
BEGIN:STANDARD
TZOFFSETFROM:+0200
TZOFFSETTO:+0100
TZNAME:CET
DTSTART:20271031T010000
END:STANDARD
END:VTIMEZONE
BEGIN:VEVENT
DTSTART;TZID=Europe/Paris:20260301T090000
DTEND;TZID=Europe/Paris:20260301T170000
DTSTAMP:20260419T155030
CREATED:20260112T163848Z
LAST-MODIFIED:20260112T163848Z
UID:10000360-1772355600-1772384400@www.visitnelascoracaododao.pt
SUMMARY:IX Nelas Trail Running
DESCRIPTION:IX Nelas Trail Running\, no dia 1 de março de 2026. \nSe não corres vem caminhar \, inscreve -te!! \nMais informações em: https://acorrer.pt/eventos/4118/info \n 
URL:https://www.visitnelascoracaododao.pt/agenda-evento/ix-nelas-trail-running/
CATEGORIES:Associativismo,Desporto
ATTACH;FMTTYPE=image/jpeg:https://www.visitnelascoracaododao.pt/wp-content/uploads/2026/01/614895164_1337365681524906_604918507896357050_n.jpg
END:VEVENT
BEGIN:VEVENT
DTSTART;TZID=Europe/Paris:20260321T140000
DTEND;TZID=Europe/Paris:20260321T170000
DTSTAMP:20260419T155030
CREATED:20260313T092612Z
LAST-MODIFIED:20260313T092612Z
UID:10000395-1774101600-1774112400@www.visitnelascoracaododao.pt
SUMMARY:5 km Color Parade | Anti-Social Run Club
DESCRIPTION:𝐃𝐢𝐚 𝟐𝟏 𝐝𝐞 𝐦𝐚𝐫𝐜̧𝐨\, 𝐚 𝐀𝐧𝐭𝐢-𝐒𝐨𝐜𝐢𝐚𝐥 𝐒𝐨𝐜𝐢𝐚𝐥 𝐑𝐮𝐧 𝐂𝐥𝐮𝐛 𝐨𝐫𝐠𝐚𝐧𝐢𝐳𝐚 “𝟓𝐊𝐌 𝐂𝐨𝐥𝐨𝐫 𝐏𝐚𝐫𝐚𝐝𝐞”\, uma iniciativa desportiva e recreativa que promete muita animação\, cor e espírito de convívio. \nA atividade terá início às 14h00\, no Complexo Desportivo de Canas de Senhorim\, e convida toda a comunidade a participar num percurso de 5 km cheio de energia e diversão. \nDevido à grande procura foram abertas mais 25 vagas adicionais para quem ainda pretende participar. \nℹ️ Informações importantes:\n• Vagas adicionais: 25 lugares\n• Critério de inscrição: ordem de chegada\n• Kit Color incluído (t-shirt\, saco mochila\, lanche e pó colorido) \n🔗 Inscrições:\nhttps://tinyurl.com/ASSRC-ColorParade \n⚠️ As vagas são limitadas e poderão esgotar
URL:https://www.visitnelascoracaododao.pt/agenda-evento/5-km-color-parade-anti-social-run-club/
LOCATION:Canas de Senhorim\, Portugal
CATEGORIES:Associativismo,Desporto
ATTACH;FMTTYPE=image/jpeg:https://www.visitnelascoracaododao.pt/wp-content/uploads/2026/03/5-KM-Color-Parade.jpg
END:VEVENT
BEGIN:VEVENT
DTSTART;TZID=Europe/Paris:20260322T103000
DTEND;TZID=Europe/Paris:20260322T130000
DTSTAMP:20260419T155030
CREATED:20260310T155404Z
LAST-MODIFIED:20260310T155404Z
UID:10000394-1774175400-1774184400@www.visitnelascoracaododao.pt
SUMMARY:18.º Torneio de Natação – Dia Mundial da Água
DESCRIPTION:O Município de Nelas convida todos os alunos da Escola Municipal de Natação a celebrarem o Dia Mundial da Água de forma ativa e divertida\, participando no 18.º Torneio de Natação. \nO evento terá lugar no dia 22 de março de 2026\, às 10h30\, nas Piscinas Municipais de Nelas. \nAs inscrições já estão abertas e os interessados devem garantir o seu lugar atempadamente. \n \nVenha celebrar a água em movimento\, reforçando hábitos saudáveis e a prática desportiva desde cedo! \nConsulte mais eventos aqui. 
URL:https://www.visitnelascoracaododao.pt/agenda-evento/18-o-torneio-de-natacao-dia-mundial-da-agua/
LOCATION:Piscinas Municipais Cobertas de Nelas
CATEGORIES:Desporto,evento,Piscinas Municipais
ATTACH;FMTTYPE=image/jpeg:https://www.visitnelascoracaododao.pt/wp-content/uploads/2026/03/647215242_1419912110168179_1859781785544119037_n.jpg
END:VEVENT
BEGIN:VEVENT
DTSTART;TZID=Europe/Paris:20260328T160000
DTEND;TZID=Europe/Paris:20260328T203000
DTSTAMP:20260419T155030
CREATED:20260320T203040Z
LAST-MODIFIED:20260320T203040Z
UID:10000413-1774713600-1774729800@www.visitnelascoracaododao.pt
SUMMARY:Intercâmbio Internacional de Futebol Veterano
DESCRIPTION:𝗜𝗻𝘁𝗲𝗿𝗰𝗮̂𝗺𝗯𝗶𝗼 𝗜𝗻𝘁𝗲𝗿𝗻𝗮𝗰𝗶𝗼𝗻𝗮𝗹 𝗱𝗲 𝗙𝘂𝘁𝗲𝗯𝗼𝗹 𝗩𝗲𝘁𝗲𝗿𝗮𝗻𝗼 \n\n\n\nDepois da nossa memorável deslocação a 𝗔𝗴𝗮𝗱𝗶𝗿\, 𝗠𝗮𝗿𝗿𝗼𝗰𝗼𝘀\, onde fomos recebidos com enorme hospitalidade pela equipa 𝗠𝗲𝗱𝗶𝘀𝗽𝗼𝗿𝘁 – 𝗔𝘀𝘀𝗼𝗰𝗶𝗮𝘁𝗶𝗼𝗻 𝗱𝗲𝘀 𝗠𝗲́𝗱𝗲𝗰𝗶𝗻𝘀 𝗔𝗺𝗮𝘁𝗲𝘂𝗿𝘀 𝗱𝘂 𝗙𝗼𝗼𝘁𝗯𝗮𝗹𝗹\, chega agora o momento de retribuir.\n\n\n\nÉ com grande orgulho que o Sport Clube Nelas e Veteranos recebe em nossa casa\, na nossa Vila de Nelas\, esta equipa amiga num encontro que vai muito além do futebol.\n\n\n\nEste jogo simboliza a amizade entre culturas\, o respeito\, o convívio e a partilha de experiências\, valores que definem verdadeiramente o espírito veterano. \n\n\n\nNo próximo dia 𝟮𝟴 𝗱𝗲 𝗺𝗮𝗿𝗰̧𝗼\, em Nelas\, vamos viver um jogo triangular entre:\n SC Nelas Veteranos\n Medisport (Agadir – Marrocos)\n Veteranos de Penela\n\n\n\nSerá uma tarde de futebol\, mas acima de tudo de união\, reencontros e celebração deste laço criado além-fronteiras.\n\n\nContamos com o apoio de todos para recebermos os nossos amigos de Agadir da melhor forma!\n\n\n\n𝗠𝗮𝗶𝘀 𝗱𝗼 𝗾𝘂𝗲 𝗳𝘂𝘁𝗲𝗯𝗼𝗹\, 𝘂𝗺𝗮 𝗹𝗶𝗴𝗮𝗰̧𝗮̃𝗼 𝗲𝗻𝘁𝗿𝗲 𝗰𝘂𝗹𝘁𝘂𝗿𝗮𝘀\nApoios \nJunta de Freguesia de Nelas\nMunicípio de Nelas
URL:https://www.visitnelascoracaododao.pt/agenda-evento/intercambio-internacional-de-futebol-veterano/
CATEGORIES:Desporto
ATTACH;FMTTYPE=image/jpeg:https://www.visitnelascoracaododao.pt/wp-content/uploads/2026/03/WhatsApp-Image-2026-03-20-at-17.25.12.jpeg
END:VEVENT
END:VCALENDAR