BEGIN:VCALENDAR
VERSION:2.0
PRODID:-//Visit Nelas Coração do Dão - ECPv6.15.15//NONSGML v1.0//EN
CALSCALE:GREGORIAN
METHOD:PUBLISH
X-ORIGINAL-URL:https://www.visitnelascoracaododao.pt
X-WR-CALDESC:Eventos para Visit Nelas Coração do Dão
REFRESH-INTERVAL;VALUE=DURATION:PT1H
X-Robots-Tag:noindex
X-PUBLISHED-TTL:PT1H
BEGIN:VTIMEZONE
TZID:UTC
BEGIN:STANDARD
TZOFFSETFROM:+0000
TZOFFSETTO:+0000
TZNAME:UTC
DTSTART:20240101T000000
END:STANDARD
END:VTIMEZONE
BEGIN:VEVENT
DTSTART;TZID=UTC:20250425T090000
DTEND;TZID=UTC:20250425T170000
DTSTAMP:20260420T121048
CREATED:20250417T083323Z
LAST-MODIFIED:20250417T083323Z
UID:10000212-1745571600-1745600400@www.visitnelascoracaododao.pt
SUMMARY:Passeio dos Alegres
DESCRIPTION:UM DIA DIFERENTE!\n\nCONVÍVIO E ANIMAÇÃO EM FAMÍLIA NÃO VÃO FALTAR\n\n\n\nVISIT NELAS CORAÇÃO DO DÃO… O CAMINHO COMEÇA AQUI
URL:https://www.visitnelascoracaododao.pt/agenda-evento/passeio-dos-alegres/
LOCATION:Carvalhal Redondo
CATEGORIES:Associativismo,Desporto
ATTACH;FMTTYPE=image/jpeg:https://www.visitnelascoracaododao.pt/wp-content/uploads/2025/04/492049386_9285102594952226_7300080743730572467_n.jpg
END:VEVENT
END:VCALENDAR