BEGIN:VCALENDAR
VERSION:2.0
PRODID:-//Visit Nelas Coração do Dão - ECPv6.15.15//NONSGML v1.0//EN
CALSCALE:GREGORIAN
METHOD:PUBLISH
X-WR-CALNAME:Visit Nelas Coração do Dão
X-ORIGINAL-URL:https://www.visitnelascoracaododao.pt
X-WR-CALDESC:Eventos para Visit Nelas Coração do Dão
REFRESH-INTERVAL;VALUE=DURATION:PT1H
X-Robots-Tag:noindex
X-PUBLISHED-TTL:PT1H
BEGIN:VTIMEZONE
TZID:UTC
BEGIN:STANDARD
TZOFFSETFROM:+0000
TZOFFSETTO:+0000
TZNAME:UTC
DTSTART:20240101T000000
END:STANDARD
END:VTIMEZONE
BEGIN:VEVENT
DTSTART;TZID=UTC:20250524T150000
DTEND;TZID=UTC:20250524T200000
DTSTAMP:20260423T054103
CREATED:20250517T112020Z
LAST-MODIFIED:20250517T112020Z
UID:10000258-1748098800-1748116800@www.visitnelascoracaododao.pt
SUMMARY:Sabores e Culturas do Mundo
DESCRIPTION:Decorre no dia 𝟐𝟒 𝐝𝐞 𝐦𝐚𝐢𝐨 𝐝𝐞 𝟐𝟎𝟐𝟓\, 𝐧𝐨 𝐏𝐚𝐫𝐪𝐮𝐞 𝐝𝐞 𝐒.𝐌𝐢𝐠𝐮𝐞𝐥\, Mata das Alminhas\, o evento “𝐒𝐚𝐛𝐨𝐫𝐞𝐬 𝐞 𝐂𝐮𝐥𝐭𝐮𝐫𝐚𝐬 𝐝𝐨 𝐌𝐮𝐧𝐝𝐨” promovido pelo Município de Nelas.\n\n\nA Câmara Municipal convida todos a participar num encontro especial com a comunidade migrante do concelho. Este evento multicultural é uma viagem pelos sabores\, tradições e expressões artísticas do mundo\, promovendo a inclusão\, o respeito e a partilha cultural entre todos.\n\n\nAo longo do dia pode desfrutar de um alargado conjunto de atividades:\nMostra gastronómica com pratos típicos de vários países;\nPinturas faciais\, modelagem de balões\, jogos tradicionais e muito mais;\nEspetáculos de música e dança;\nMesa redonda com convidados especiais;\nParticipação de comunidades de Angola\, Áustria\, Brasil\, Colômbia\, Índia\, Moçambique\, Países Baixos e Portugal.\n\n\nEsta iniciativa visa promover a partilha de saberes culturais e fortalecer os laços entre a comunidade local e a população migrante do Concelho de Nelas. A não perder!\n\n\n#Nelas #Cultura #Diversidade #Partilha #Migrantes
URL:https://www.visitnelascoracaododao.pt/agenda-evento/sabores-e-culturas-do-mundo/
LOCATION:Parque de São Miguel (Mata das Alminhas)
CATEGORIES:Concerto,Crianças,Cultura,evento
ATTACH;FMTTYPE=image/jpeg:https://www.visitnelascoracaododao.pt/wp-content/uploads/2025/05/497500816_1175829021243157_159000136919507548_n.jpg
END:VEVENT
END:VCALENDAR