BEGIN:VCALENDAR
VERSION:2.0
PRODID:-//Visit Nelas Coração do Dão - ECPv6.15.15//NONSGML v1.0//EN
CALSCALE:GREGORIAN
METHOD:PUBLISH
X-ORIGINAL-URL:https://www.visitnelascoracaododao.pt
X-WR-CALDESC:Eventos para Visit Nelas Coração do Dão
REFRESH-INTERVAL;VALUE=DURATION:PT1H
X-Robots-Tag:noindex
X-PUBLISHED-TTL:PT1H
BEGIN:VTIMEZONE
TZID:UTC
BEGIN:STANDARD
TZOFFSETFROM:+0000
TZOFFSETTO:+0000
TZNAME:UTC
DTSTART:20240101T000000
END:STANDARD
END:VTIMEZONE
BEGIN:VEVENT
DTSTART;VALUE=DATE:20250202
DTEND;VALUE=DATE:20250203
DTSTAMP:20260423T100042
CREATED:20250116T102520Z
LAST-MODIFIED:20250116T102520Z
UID:10000150-1738454400-1738540799@www.visitnelascoracaododao.pt
SUMMARY:133º aniversário da Sociedade Musical de 2 de fevereiro em Santar
DESCRIPTION:Muita animação\, arruada pela Vila de Santar e Almoço convívio na sede do Sporting clube de Santar.\nInscrições até ao dia 26 de Janeiro. Apareça e venha conviver connosco.\n  \n \n  \nVISIT NELAS CORAÇÃO DO DÃO… O CAMINHO COMEÇA AQUI \nMunicípio de Nelas \n 
URL:https://www.visitnelascoracaododao.pt/agenda-evento/133o-aniversario-da-sociedade-musical-de-2-de-fevereiro-em-santar/
LOCATION:Santar
CATEGORIES:Associativismo,Concerto,Cultura
END:VEVENT
BEGIN:VEVENT
DTSTART;TZID=UTC:20250214T213000
DTEND;TZID=UTC:20250214T233000
DTSTAMP:20260423T100042
CREATED:20250215T073808Z
LAST-MODIFIED:20250215T073808Z
UID:10000162-1739568600-1739575800@www.visitnelascoracaododao.pt
SUMMARY:CONCERTO COM CLÁUDIA FRANCO E FILIPE DUARTE | JAZZ D’INVERNO
DESCRIPTION:“Jazz d’Inverno” é a primeira edição de uma proposta artística intitulada “Sons d’Inverno”\, que se pretende programar anualmente\, oferecendo ao nosso público um fim-de-semana de iniciativas à volta de um género musical. \nO Jazz é a primeira proposta\, que inclui dois concertos e uma oficina de improvisação\, com o regresso de Cláudia Franco e a estreia dos Djangoland no palco do Auditório Maria José Cunha. \nO concerto de Cláudia Franco e Filipe Duarte dará início a este fim-de-semana de “Jazz d’Inverno”\, que vai oferecer ao público um conjunto de iniciativas à volta deste género musical. \nCláudia Franco e Filipe Duarte escrevem música em português e rearranjam algumas das suas canções preferidas. Com fortes ligações ao Jazz e ao Fado\, contam as suas histórias num estilo delicado e intimista. \n  \nVISIT NELAS CORAÇÃO DO DÃO… O CAMINHO COMEÇA AQUI \nMunicípio de Nelas
URL:https://www.visitnelascoracaododao.pt/agenda-evento/concerto-com-claudia-franco-e-filipe-duarte-jazz-dinverno/
LOCATION:Lapa do Lobo
CATEGORIES:Aldeia Cultural,Concerto,Fundação da Lapa do Lobo
ATTACH;FMTTYPE=image/jpeg:https://www.visitnelascoracaododao.pt/wp-content/uploads/2025/02/Agenda-2.jpg
END:VEVENT
BEGIN:VEVENT
DTSTART;TZID=UTC:20250215T213000
DTEND;TZID=UTC:20250215T233000
DTSTAMP:20260423T100042
CREATED:20250215T075006Z
LAST-MODIFIED:20250215T075006Z
UID:10000163-1739655000-1739662200@www.visitnelascoracaododao.pt
SUMMARY:CONCERTO COM DJANGOLAND
DESCRIPTION:O Quinteto Djangoland recria o “Jazz Manouche” de Paris dos anos 30\, cujo expoente máximo foi o guitarrista Django Reinhardt\, um dos mais influentes músicos do século XX. \nO repertório vai dos clássicos do Jazz americano ao cançonetismo francês\, passando pelas sonoridades do leste da Europa\, com alguns desvios mais contemporâneos. Fazendo parte do imaginário coletivo como cenário musical durante o período entre as duas Guerras Mundiais\, na Europa\, o Jazz Manouche\, ou Gypsy Jazz\, ganhou expressão pela mão de Django e dos ensembles que liderou. \nDjangoland homenageia esses precursores\, com um projeto que prima pelo rigor e pela criatividade que o Jazz permite. Apresenta uma música que é simultaneamente festiva e descomplexada\, familiar e\, no entanto\, ainda pouco conhecida em Portugal. \nVISIT NELAS CORAÇÃO DO DÃO… O CAMINHO COMEÇA AQUI \nMunicípio de Nelas
URL:https://www.visitnelascoracaododao.pt/agenda-evento/concerto-com-djangoland/
LOCATION:Lapa do Lobo
CATEGORIES:Aldeia Cultural,Concerto,evento,Fundação da Lapa do Lobo
ATTACH;FMTTYPE=image/jpeg:https://www.visitnelascoracaododao.pt/wp-content/uploads/2025/02/Agenda-3.jpg
END:VEVENT
END:VCALENDAR