BEGIN:VCALENDAR
VERSION:2.0
PRODID:-//Visit Nelas Coração do Dão - ECPv6.15.15//NONSGML v1.0//EN
CALSCALE:GREGORIAN
METHOD:PUBLISH
X-WR-CALNAME:Visit Nelas Coração do Dão
X-ORIGINAL-URL:https://www.visitnelascoracaododao.pt
X-WR-CALDESC:Eventos para Visit Nelas Coração do Dão
REFRESH-INTERVAL;VALUE=DURATION:PT1H
X-Robots-Tag:noindex
X-PUBLISHED-TTL:PT1H
BEGIN:VTIMEZONE
TZID:UTC
BEGIN:STANDARD
TZOFFSETFROM:+0000
TZOFFSETTO:+0000
TZNAME:UTC
DTSTART:20240101T000000
END:STANDARD
END:VTIMEZONE
BEGIN:VEVENT
DTSTART;TZID=UTC:20250112T153000
DTEND;TZID=UTC:20250112T180000
DTSTAMP:20260423T111237
CREATED:20250108T165611Z
LAST-MODIFIED:20250108T165611Z
UID:10000144-1736695800-1736704800@www.visitnelascoracaododao.pt
SUMMARY:Concerto de Ano Novo
DESCRIPTION:A Sociedade Musical de Santo António vai realizar o seu Concerto de Ano Novo  em Carvalhal Redondo. Não Perca! \nAssociação Os Carvalhenses\nVISIT NELAS CORAÇÃO DO DÃO… O CAMINHO COMEÇA AQUI \nMunicípio de Nelas
URL:https://www.visitnelascoracaododao.pt/agenda-evento/concerto-de-ano-novo/
LOCATION:Carvalhal Redondo
CATEGORIES:Concerto
ATTACH;FMTTYPE=image/jpeg:https://www.visitnelascoracaododao.pt/wp-content/uploads/2025/01/472543602_1448942103154781_5530004149204790573_n.jpg
END:VEVENT
END:VCALENDAR