BEGIN:VCALENDAR
VERSION:2.0
PRODID:-//Visit Nelas Coração do Dão - ECPv6.15.15//NONSGML v1.0//EN
CALSCALE:GREGORIAN
METHOD:PUBLISH
X-WR-CALNAME:Visit Nelas Coração do Dão
X-ORIGINAL-URL:https://www.visitnelascoracaododao.pt
X-WR-CALDESC:Eventos para Visit Nelas Coração do Dão
REFRESH-INTERVAL;VALUE=DURATION:PT1H
X-Robots-Tag:noindex
X-PUBLISHED-TTL:PT1H
BEGIN:VTIMEZONE
TZID:Europe/Paris
BEGIN:DAYLIGHT
TZOFFSETFROM:+0100
TZOFFSETTO:+0200
TZNAME:CEST
DTSTART:20250330T010000
END:DAYLIGHT
BEGIN:STANDARD
TZOFFSETFROM:+0200
TZOFFSETTO:+0100
TZNAME:CET
DTSTART:20251026T010000
END:STANDARD
BEGIN:DAYLIGHT
TZOFFSETFROM:+0100
TZOFFSETTO:+0200
TZNAME:CEST
DTSTART:20260329T010000
END:DAYLIGHT
BEGIN:STANDARD
TZOFFSETFROM:+0200
TZOFFSETTO:+0100
TZNAME:CET
DTSTART:20261025T010000
END:STANDARD
BEGIN:DAYLIGHT
TZOFFSETFROM:+0100
TZOFFSETTO:+0200
TZNAME:CEST
DTSTART:20270328T010000
END:DAYLIGHT
BEGIN:STANDARD
TZOFFSETFROM:+0200
TZOFFSETTO:+0100
TZNAME:CET
DTSTART:20271031T010000
END:STANDARD
END:VTIMEZONE
BEGIN:VEVENT
DTSTART;TZID=Europe/Paris:20260417T093000
DTEND;TZID=Europe/Paris:20260424T210000
DTSTAMP:20260424T014002
CREATED:20260410T163326Z
LAST-MODIFIED:20260410T163326Z
UID:10000430-1776418200-1777064400@www.visitnelascoracaododao.pt
SUMMARY:10ª Edição de "ELOS - Festival Literário de Nelas\, Escritores e Autores do Coração do Dão"
DESCRIPTION:10ª Edição de “ELOS – Festival Literário de Nelas\, Escritores e Autores do Coração do Dão” \nConvidamos a população a participar de 17 a 24 de abril de 2026\, num programa diversificado\, para todos os gostos e idades\, com espetáculos\, encontros\, exposições e leituras que vão acontecer em diferentes espaços públicos do Concelho. \n👉Clique aqui para consultar o programa completo do Elos 2026
URL:https://www.visitnelascoracaododao.pt/agenda-evento/10a-edicao-de-elos-festival-literario-de-nelas-escritores-e-autores-do-coracao-do-dao/
CATEGORIES:Elos
ATTACH;FMTTYPE=image/png:https://www.visitnelascoracaododao.pt/wp-content/uploads/2026/03/Banner_ELOS_Leitura_2026_Facebook.png
END:VEVENT
BEGIN:VEVENT
DTSTART;TZID=Europe/Paris:20260424T103000
DTEND;TZID=Europe/Paris:20260424T120000
DTSTAMP:20260424T014002
CREATED:20260415T114605Z
LAST-MODIFIED:20260415T114605Z
UID:10000435-1777026600-1777032000@www.visitnelascoracaododao.pt
SUMMARY:Assembleia Municipal Jovem | 25 de abril
DESCRIPTION:Assembleia Municipal Jovem marca início das Comemorações do 25 de Abril\, em Nelas\, Coração do Dão\, num momento de debate e participação democrática entre Alunos do Ensino Secundários dos Agrupamentos de Escolas do Concelho \nA marcar o início das Comemorações do 25 de Abril\, em Nelas\, decorre no dia 24 de abril\, no Auditório do Edifício Multiusos de Nelas\, a Assembleia Municipal Jovem\, um importante momento de reflexão que permite aos mais jovens exercerem o seu direito de democracia com debate sobre temas da atualidade\, bem como experienciarem o funcionamento de uma Assembleia Municipal. \nNesta sessão\, subordinado ao tema Literacia Financeira e Trabalhar no Interior – que incentivos?\, os alunos do 12º ano da disciplina de Ciências Políticas dos Agrupamento de Escolas de Nelas e pelos alunos do 10º e 12º anos de Ciências e Tecnologias de Línguas e Humanidades do Agrupamento de Escolas de Canas de Senhorim vão falar sobre as vantagens e desvantagens de trabalhar e residir no interior\, bem como sobre a necessidade de apostar na literacia financeira de forma a gerir orçamentos\, aproveitar incentivos fiscais e conhecer as oportunidades e as ofertas existentes no mercado de trabalho. \nA sessão conta ainda com um Momento Musical pelo Corpo Docente da AMAN – Academia Municipal de Artes de Nelas\, composto por sonoridades da Revolução da Abril\, Liberdade e Democracia. \nA Assembleia Municipal Jovem é uma iniciativa promovida pela 𝗖𝗮̂𝗺𝗮𝗿𝗮 𝗠𝘂𝗻𝗶𝗰𝗶𝗽𝗮𝗹 𝗱𝗲 𝗡𝗲𝗹𝗮𝘀 que\, em conjunto com os Agrupamentos de Escolas\, permite aos alunos do secundário vivenciar\, por um dia\, o papel de um Deputado Municipal. \nAs Comemorações do 25 de Abril prosseguem no sábado com um programa diversificado que pretende honrar e assinalar os 52 Anos de Liberdade. \nVenha assistir e celebrar a liberdade.
URL:https://www.visitnelascoracaododao.pt/agenda-evento/assembleia-municipal-jovem-25-de-abril/
LOCATION:Auditório Edifício Multiusos – Nelas
CATEGORIES:25. de Abril
ATTACH;FMTTYPE=image/png:https://www.visitnelascoracaododao.pt/wp-content/uploads/2026/04/Prancheta-4.png
END:VEVENT
BEGIN:VEVENT
DTSTART;TZID=Europe/Paris:20260424T180000
DTEND;TZID=Europe/Paris:20260424T190000
DTSTAMP:20260424T014002
CREATED:20260415T113402Z
LAST-MODIFIED:20260415T113402Z
UID:10000434-1777053600-1777057200@www.visitnelascoracaododao.pt
SUMMARY:10ª edição de "ELOS" | Maria Natália Miranda\, Lugares de Memórias Canenses
DESCRIPTION:𝟭𝟬ª 𝗘𝗱𝗶𝗰̧𝗮̃𝗼 𝗱𝗲 “𝗘𝗟𝗢𝗦 – 𝗙𝗲𝘀𝘁𝗶𝘃𝗮𝗹 𝗟𝗶𝘁𝗲𝗿𝗮́𝗿𝗶𝗼 𝗱𝗲 𝗡𝗲𝗹𝗮𝘀\, 𝗘𝘀𝗰𝗿𝗶𝘁𝗼𝗿𝗲𝘀 𝗲 𝗔𝘂𝘁𝗼𝗿𝗲𝘀 𝗱𝗼 𝗖𝗼𝗿𝗮𝗰̧𝗮̃𝗼 𝗱𝗼 𝗗𝗮̃𝗼” | “𝗠𝗮𝗿𝗶𝗮 𝗡𝗮𝘁𝗮́𝗹𝗶𝗮 𝗠𝗶𝗿𝗮𝗻𝗱𝗮\, 𝗟𝘂𝗴𝗮𝗿𝗲𝘀 𝗱𝗲 𝗠𝗲𝗺𝗼́𝗿𝗶𝗮𝘀 𝗖𝗮𝗻𝗲𝗻𝘀𝗲𝘀”\n\n\n\nNo dia 𝟐𝟒 𝐝𝐞 𝐚𝐛𝐫𝐢𝐥\, às 𝟏𝟎𝐡𝟎𝟎\, na Vila de Canas de Senhorim\, realiza-se um percurso literário e cultural inspirado na obra de Maria Natália Miranda.\n\n\nAo longo deste passeio\, os participantes terão oportunidade de conhecer alguns dos lugares de Canas de Senhorim referidos pela autora\, descobrindo simultaneamente a riqueza arquitetónica\, histórica e cultural desta emblemática vila.\n\n\n\nUm convite para caminhar entre memórias\, literatura e património\, num encontro pensado para conhecer\, conversar e valorizar a identidade local.\n\n\n\n Vila de Canas de Senhorim\n 10h00\n Participação gratuita\, limitada a 40 participantes\n\n\n\n𝗜𝗻𝘀𝗰𝗿𝗶𝗰̧𝗼̃𝗲𝘀:\n https://forms.gle/GXfVU1KEhV4fZq1g9\n232 940 141 . geral.biblioteca.municipal@cm-nelas.pt\nParticipação limitada a 12 famílias com bebés dos 12 aos 36 meses\n\n\n\n𝗣𝗿𝗼𝗴𝗿𝗮𝗺𝗮 𝗰𝗼𝗺𝗽𝗹𝗲𝘁𝗼 𝗱𝗼𝘀 𝗘𝗟𝗢𝗦 𝟮𝟬𝟮𝟲 𝗲𝗺: http://www.visitnelascoracaododao.pt/…/elos-festival…\n\n\n\n#ELOSdeLeitura #MariaNataliaMiranda #CanasDeSenhorim #FestivalLiterario #NelasCoracaoDoDao #MunicipioDeNelas #Cultura #Literatura #Patrimonio
URL:https://www.visitnelascoracaododao.pt/agenda-evento/10a-edicao-de-elos-maria-natalia-miranda-lugares-de-memorias-canenses/
LOCATION:Canas de Senhorim\, Portugal
CATEGORIES:Elos
ATTACH;FMTTYPE=image/png:https://www.visitnelascoracaododao.pt/wp-content/uploads/2026/03/Post_ELOS_2026_Passeio_MNMiranda_24_Abril.png
END:VEVENT
BEGIN:VEVENT
DTSTART;TZID=Europe/Paris:20260424T213000
DTEND;TZID=Europe/Paris:20260424T223000
DTSTAMP:20260424T014002
CREATED:20260310T124220Z
LAST-MODIFIED:20260310T124220Z
UID:10000389-1777066200-1777069800@www.visitnelascoracaododao.pt
SUMMARY:Amarelo Silvestre: Fluxodrama com as escolas
DESCRIPTION:No âmbito do projecto Alcateia da Fundaçao Lapa Do Lobo\, a Amarelo Silvestre dinamiza no dia 24 de abril mais um ciclo de sessões Fluxodrama\, dirigido tanto à comunidade escolar\, como ao público em geral\, no Auditório da Fundação da Lapa do Lobo\, às 21h30.  \nPara reservas de lugares: geral@fundacaolapadolobo.pt; Tel. 232671084. \n \nFluxodrama é um espectáculo – ou experiência socioteatral – em que os espectadores respondem a perguntas que lhes são colocadas e\, perante as respostas\, posicionam-se e dialogam – às vezes de forma muito acesa – sobre assuntos universais\, políticos\, filosóficos\, éticos\, sociais\, económicos\, ambientais e religiosos. \nConsulte mais eventos aqui. 
URL:https://www.visitnelascoracaododao.pt/agenda-evento/amarelo-silvestre-fluxodrama-com-as-escolas/
CATEGORIES:Amarelo Silvestre,Associativismo,Cultura,evento,Fundação da Lapa do Lobo
ATTACH;FMTTYPE=image/jpeg:https://www.visitnelascoracaododao.pt/wp-content/uploads/2026/03/649834856_1371246741688812_8000602066011330209_n.jpg
END:VEVENT
END:VCALENDAR