BEGIN:VCALENDAR
VERSION:2.0
PRODID:-//Visit Nelas Coração do Dão - ECPv6.15.15//NONSGML v1.0//EN
CALSCALE:GREGORIAN
METHOD:PUBLISH
X-ORIGINAL-URL:https://www.visitnelascoracaododao.pt
X-WR-CALDESC:Eventos para Visit Nelas Coração do Dão
REFRESH-INTERVAL;VALUE=DURATION:PT1H
X-Robots-Tag:noindex
X-PUBLISHED-TTL:PT1H
BEGIN:VTIMEZONE
TZID:Europe/Paris
BEGIN:DAYLIGHT
TZOFFSETFROM:+0100
TZOFFSETTO:+0200
TZNAME:CEST
DTSTART:20250330T010000
END:DAYLIGHT
BEGIN:STANDARD
TZOFFSETFROM:+0200
TZOFFSETTO:+0100
TZNAME:CET
DTSTART:20251026T010000
END:STANDARD
BEGIN:DAYLIGHT
TZOFFSETFROM:+0100
TZOFFSETTO:+0200
TZNAME:CEST
DTSTART:20260329T010000
END:DAYLIGHT
BEGIN:STANDARD
TZOFFSETFROM:+0200
TZOFFSETTO:+0100
TZNAME:CET
DTSTART:20261025T010000
END:STANDARD
BEGIN:DAYLIGHT
TZOFFSETFROM:+0100
TZOFFSETTO:+0200
TZNAME:CEST
DTSTART:20270328T010000
END:DAYLIGHT
BEGIN:STANDARD
TZOFFSETFROM:+0200
TZOFFSETTO:+0100
TZNAME:CET
DTSTART:20271031T010000
END:STANDARD
END:VTIMEZONE
BEGIN:VEVENT
DTSTART;TZID=Europe/Paris:20260322T103000
DTEND;TZID=Europe/Paris:20260322T130000
DTSTAMP:20260421T175710
CREATED:20260310T155404Z
LAST-MODIFIED:20260310T155404Z
UID:10000394-1774175400-1774184400@www.visitnelascoracaododao.pt
SUMMARY:18.º Torneio de Natação – Dia Mundial da Água
DESCRIPTION:O Município de Nelas convida todos os alunos da Escola Municipal de Natação a celebrarem o Dia Mundial da Água de forma ativa e divertida\, participando no 18.º Torneio de Natação. \nO evento terá lugar no dia 22 de março de 2026\, às 10h30\, nas Piscinas Municipais de Nelas. \nAs inscrições já estão abertas e os interessados devem garantir o seu lugar atempadamente. \n \nVenha celebrar a água em movimento\, reforçando hábitos saudáveis e a prática desportiva desde cedo! \nConsulte mais eventos aqui. 
URL:https://www.visitnelascoracaododao.pt/agenda-evento/18-o-torneio-de-natacao-dia-mundial-da-agua/
LOCATION:Piscinas Municipais Cobertas de Nelas
CATEGORIES:Desporto,evento,Piscinas Municipais
ATTACH;FMTTYPE=image/jpeg:https://www.visitnelascoracaododao.pt/wp-content/uploads/2026/03/647215242_1419912110168179_1859781785544119037_n.jpg
END:VEVENT
BEGIN:VEVENT
DTSTART;TZID=Europe/Paris:20260322T113000
DTEND;TZID=Europe/Paris:20260322T203000
DTSTAMP:20260421T175710
CREATED:20260316T110543Z
LAST-MODIFIED:20260316T112521Z
UID:10000398-1774179000-1774211400@www.visitnelascoracaododao.pt
SUMMARY:Semana Santa em Santar | Domingo de Lázaro
DESCRIPTION:𝐒𝐞𝐦𝐚𝐧𝐚 𝐒𝐚𝐧𝐭𝐚 𝐞𝐦 𝐒𝐚𝐧𝐭𝐚𝐫 | 𝐂𝐨𝐦𝐞𝐦𝐨𝐫𝐚𝐜̧𝐨̃𝐞𝐬 𝐚𝐫𝐫𝐚𝐧𝐜𝐚𝐫𝐚𝐦 𝐧𝐨 𝐝𝐢𝐚 𝟐𝟏 𝐝𝐞 𝐦𝐚𝐫𝐜̧𝐨 𝐞 𝐩𝐫𝐨𝐥𝐨𝐧𝐠𝐚-𝐬𝐞 𝐚𝐭𝐞́ 𝟓 𝐚𝐛𝐫𝐢𝐥 𝐝𝐞 𝟐𝟎𝟐𝟔\n\n\n\nRealiza-se hoje\, o Domingo de Lázaro\, dia 22 de março\, com Missa\, Procissão do Encontro e Sermão a cargo do Padre Jorge Luís.\n\nNa próxima semana teremos o Domingo de Ramos\, dia 29 de março\, com a Bênção dos Ramos no Largo da Misericórdia de Santar às 11h30\, seguida de Missa na Igreja Matriz e às 19h o Concerto Solene apresentado pela Sociedade Musical 2 de Fevereiro na Igreja da Misericórdia.\n\n\n\nA Quinta-feira Santa\, dia 02 de abril\, é marcada pela Missa da Ceia do Senhor\, que decorre na Igreja da Misericórdia\, com o Lava pés\, Fogaréus e Adoração do Santíssimo. Já na Sexta-Feira Santa\, dia 03\, a Igreja da Misericórdia recebe a Celebração da Paixão do Senhor\, seguida de Procissão do Enterro e Sermão da Paixão\, na Igreja da Misericórdia.\n\nSábado\, dia 04 de abril a Vigília Pascoal na Igreja Matriz. No Domingo de Páscoa\, dia 05 de abril\, tem lugar a Procissão da Ressurreição\, seguida de Missa na Igreja da Misericórdia seguida da Eucaristia na Igreja Matriz.\n\n\n\nAs Celebrações da Semana Santa em Santar reúnem elementos da liturgia e da religiosidade\, envolvendo a comunidade num ato de fé e solenidade\, e que ao longo dos anos tem sido preservado pela Misericórdia Santar\, constituindo-se como um dos momentos mais marcantes do Turismo Religioso no Concelho de Nelas.\n\n\n\n#santar #municipiodenelas #semanasanta #nelascoracaododao #turismoreligioso #misericordiadesantar
URL:https://www.visitnelascoracaododao.pt/agenda-evento/semana-santa-em-santar-domingo-de-lazaro/
CATEGORIES:Páscoa,Semana Santa
ATTACH;FMTTYPE=image/jpeg:https://www.visitnelascoracaododao.pt/wp-content/uploads/2026/03/Semana-Santa_Miseticordia-Santar.jpg
END:VEVENT
END:VCALENDAR