BEGIN:VCALENDAR
VERSION:2.0
PRODID:-//Visit Nelas Coração do Dão - ECPv6.15.15//NONSGML v1.0//EN
CALSCALE:GREGORIAN
METHOD:PUBLISH
X-ORIGINAL-URL:https://www.visitnelascoracaododao.pt
X-WR-CALDESC:Eventos para Visit Nelas Coração do Dão
REFRESH-INTERVAL;VALUE=DURATION:PT1H
X-Robots-Tag:noindex
X-PUBLISHED-TTL:PT1H
BEGIN:VTIMEZONE
TZID:Europe/Paris
BEGIN:DAYLIGHT
TZOFFSETFROM:+0100
TZOFFSETTO:+0200
TZNAME:CEST
DTSTART:20250330T010000
END:DAYLIGHT
BEGIN:STANDARD
TZOFFSETFROM:+0200
TZOFFSETTO:+0100
TZNAME:CET
DTSTART:20251026T010000
END:STANDARD
BEGIN:DAYLIGHT
TZOFFSETFROM:+0100
TZOFFSETTO:+0200
TZNAME:CEST
DTSTART:20260329T010000
END:DAYLIGHT
BEGIN:STANDARD
TZOFFSETFROM:+0200
TZOFFSETTO:+0100
TZNAME:CET
DTSTART:20261025T010000
END:STANDARD
BEGIN:DAYLIGHT
TZOFFSETFROM:+0100
TZOFFSETTO:+0200
TZNAME:CEST
DTSTART:20270328T010000
END:DAYLIGHT
BEGIN:STANDARD
TZOFFSETFROM:+0200
TZOFFSETTO:+0100
TZNAME:CET
DTSTART:20271031T010000
END:STANDARD
END:VTIMEZONE
BEGIN:VEVENT
DTSTART;TZID=Europe/Paris:20260321T140000
DTEND;TZID=Europe/Paris:20260321T170000
DTSTAMP:20260421T175709
CREATED:20260313T092612Z
LAST-MODIFIED:20260313T092612Z
UID:10000395-1774101600-1774112400@www.visitnelascoracaododao.pt
SUMMARY:5 km Color Parade | Anti-Social Run Club
DESCRIPTION:𝐃𝐢𝐚 𝟐𝟏 𝐝𝐞 𝐦𝐚𝐫𝐜̧𝐨\, 𝐚 𝐀𝐧𝐭𝐢-𝐒𝐨𝐜𝐢𝐚𝐥 𝐒𝐨𝐜𝐢𝐚𝐥 𝐑𝐮𝐧 𝐂𝐥𝐮𝐛 𝐨𝐫𝐠𝐚𝐧𝐢𝐳𝐚 “𝟓𝐊𝐌 𝐂𝐨𝐥𝐨𝐫 𝐏𝐚𝐫𝐚𝐝𝐞”\, uma iniciativa desportiva e recreativa que promete muita animação\, cor e espírito de convívio. \nA atividade terá início às 14h00\, no Complexo Desportivo de Canas de Senhorim\, e convida toda a comunidade a participar num percurso de 5 km cheio de energia e diversão. \nDevido à grande procura foram abertas mais 25 vagas adicionais para quem ainda pretende participar. \nℹ️ Informações importantes:\n• Vagas adicionais: 25 lugares\n• Critério de inscrição: ordem de chegada\n• Kit Color incluído (t-shirt\, saco mochila\, lanche e pó colorido) \n🔗 Inscrições:\nhttps://tinyurl.com/ASSRC-ColorParade \n⚠️ As vagas são limitadas e poderão esgotar
URL:https://www.visitnelascoracaododao.pt/agenda-evento/5-km-color-parade-anti-social-run-club/
LOCATION:Canas de Senhorim\, Portugal
CATEGORIES:Associativismo,Desporto
ATTACH;FMTTYPE=image/jpeg:https://www.visitnelascoracaododao.pt/wp-content/uploads/2026/03/5-KM-Color-Parade.jpg
END:VEVENT
BEGIN:VEVENT
DTSTART;TZID=Europe/Paris:20260321T190000
DTEND;TZID=Europe/Paris:20260321T203000
DTSTAMP:20260421T175709
CREATED:20260316T104922Z
LAST-MODIFIED:20260316T110504Z
UID:10000397-1774119600-1774125000@www.visitnelascoracaododao.pt
SUMMARY:Semana Santa Santar | Sábado de Lázaro
DESCRIPTION:𝐒𝐞𝐦𝐚𝐧𝐚 𝐒𝐚𝐧𝐭𝐚 𝐞𝐦 𝐒𝐚𝐧𝐭𝐚𝐫 – 𝐂𝐨𝐦𝐞𝐦𝐨𝐫𝐚𝐜̧𝐨̃𝐞𝐬 𝐜𝐨𝐦𝐞𝐜̧𝐚𝐦 𝐝𝐢𝐚 𝟐𝟏 𝐝𝐞 𝐦𝐚𝐫𝐜̧𝐨 𝐞 𝐩𝐫𝐨𝐥𝐨𝐧𝐠𝐚-𝐬𝐞 𝐚𝐭𝐞́ 𝟓 𝐚𝐛𝐫𝐢𝐥 𝐝𝐞 𝟐𝟎𝟐𝟔\n\n\n\nAs Cerimónias arrancam dia 21 de março\, Sábado de Lázaro\, com Missa e Procissão com o Senhor do Passos\, da Igreja da Misericórdia à Igreja Paroquial\, seguindo-se o Domingo de Lázaro\, dia 22 de março\, com Missa\, Procissão do Encontro e Sermão a cargo do Padre Jorge Luís.\n\n\n\nO Domingo de Ramos conta com Bênção dos Ramos no Largo da Misericórdia de Santar às 11h30\, seguida de Missa na Igreja Matriz e às 19h o Concerto Solene apresentado pela Sociedade Musical 2 de Fevereiro na Igreja da Misericórdia.\n\n\n\n\n\nA Quinta-feira Santa\, dia 02 de abril\, é marcada pela Missa da Ceia do Senhor\, que decorre na Igreja da Misericórdia\, com o Lava pés\, Fogaréus e Adoração do Santíssimo. Já na Sexta-Feira Santa\, dia 03\, a Igreja da Misericórdia recebe a Celebração da Paixão do Senhor\, seguida de Procissão do Enterro e Sermão da Paixão\, na Igreja da Misericórdia.\n\nSábado\, dia 04 de abril a Vigília Pascoal na Igreja Matriz. No Domingo de Páscoa\, dia 05 de abril\, tem lugar a Procissão da Ressurreição\, seguida de Missa na Igreja da Misericórdia seguida da Eucaristia na Igreja Matriz.\n\n\n\nAs Celebrações da Semana Santa em Santar reúnem elementos da liturgia e da religiosidade\, envolvendo a comunidade num ato de fé e solenidade\, e que ao longo dos anos tem sido preservado pela Misericórdia Santar\, constituindo-se como um dos momentos mais marcantes do Turismo Religioso no Concelho de Nelas.\n\n\n\n#santar #municipiodenelas #semanasanta #nelascoracaododao #turismoreligioso #misericordiadesantar
URL:https://www.visitnelascoracaododao.pt/agenda-evento/semana-santa-santar-sabado-de-lazaro/
CATEGORIES:Páscoa,Semana Santa
ATTACH;FMTTYPE=image/jpeg:https://www.visitnelascoracaododao.pt/wp-content/uploads/2026/03/Semana-Santa_Miseticordia-Santar.jpg
END:VEVENT
BEGIN:VEVENT
DTSTART;TZID=Europe/Paris:20260321T210000
DTEND;TZID=Europe/Paris:20260321T230000
DTSTAMP:20260421T175709
CREATED:20260303T151803Z
LAST-MODIFIED:20260303T152130Z
UID:10000376-1774126800-1774134000@www.visitnelascoracaododao.pt
SUMMARY:Noite de Fados | Associação de Moreira
DESCRIPTION:No dia 21 de março de 2026 a Associação de Moreira promove uma noite de fados pelas 21 horas. \nSócios: 13 fados / Não sócios: 15 fados
URL:https://www.visitnelascoracaododao.pt/agenda-evento/noite-de-fados-associacao-de-moreira/
LOCATION:Moreira
CATEGORIES:Associativismo
ATTACH;FMTTYPE=image/jpeg:https://www.visitnelascoracaododao.pt/wp-content/uploads/2026/03/646003702_25884584561201293_6106504238966968240_n.jpg
END:VEVENT
BEGIN:VEVENT
DTSTART;TZID=Europe/Paris:20260321T213000
DTEND;TZID=Europe/Paris:20260321T223000
DTSTAMP:20260421T175709
CREATED:20260310T120321Z
LAST-MODIFIED:20260310T120342Z
UID:10000382-1774128600-1774132200@www.visitnelascoracaododao.pt
SUMMARY:Apresentação da Obra "Ah! As Boas Intenções"
DESCRIPTION:A Biblioteca José Adelino\, em Canas de Senhorim\, já tem atividades programadas para 2026. Ao longo do ano\, o espaço acolhe apresentações de livros\, tertúlias\, sessões de contos para os mais novos\, passeios e feiras do livro usado\, promovendo momentos de leitura\, partilha e convívio abertos a toda a comunidade. \n21 de março | 21h30Apresentação do livro “Ah! As Boas Intenções”\, de Pitum Keil Amaral. A sessão conta com bolo de aniversário e anedotas\, num momento informal e aberto a todos os interessados. \n \nA Biblioteca José Adelino é um ponto de encontro cultural que valoriza o acesso ao conhecimento e à leitura. Com um ambiente acolhedor\, convida visitantes de todas as idades a descobrir livros\, explorar ideias e participar em iniciativas que fortalecem os laços da comunidade e despertam a curiosidade intelectual. \nConsulte mais evento aqui.
URL:https://www.visitnelascoracaododao.pt/agenda-evento/apresentacao-da-obra-ah-as-boas-intencao/
LOCATION:biblioteca josé adelino\, Canas de Senhorim
CATEGORIES:Biblioteca José Adelino,evento
ATTACH;FMTTYPE=image/jpeg:https://www.visitnelascoracaododao.pt/wp-content/uploads/2026/03/Biblioteca-Jose-Adelino-1.jpg
END:VEVENT
BEGIN:VEVENT
DTSTART;TZID=Europe/Paris:20260321T213000
DTEND;TZID=Europe/Paris:20260321T233000
DTSTAMP:20260421T175709
CREATED:20260317T091818Z
LAST-MODIFIED:20260317T091818Z
UID:10000406-1774128600-1774135800@www.visitnelascoracaododao.pt
SUMMARY:Karaoke | Associação Cimo do Povo
DESCRIPTION:No próximo sábado\, 21 de março às 21h30 está de volta o Karaoke na Associação do Cimo do Povo em Nelas. \n“Não faltes e traz os teus amigos 😉” \n👉 https://www.facebook.com/adrccimodopovonelas
URL:https://www.visitnelascoracaododao.pt/agenda-evento/karaoke-associacao-cimo-do-povo/
LOCATION:ADRC Cimo do Povo Nelas
CATEGORIES:Associativismo
ATTACH;FMTTYPE=image/jpeg:https://www.visitnelascoracaododao.pt/wp-content/uploads/2026/03/Karaoke-Cimo-do-Povo.jpg
END:VEVENT
END:VCALENDAR