BEGIN:VCALENDAR
VERSION:2.0
PRODID:-//Visit Nelas Coração do Dão - ECPv6.15.15//NONSGML v1.0//EN
CALSCALE:GREGORIAN
METHOD:PUBLISH
X-ORIGINAL-URL:https://www.visitnelascoracaododao.pt
X-WR-CALDESC:Eventos para Visit Nelas Coração do Dão
REFRESH-INTERVAL;VALUE=DURATION:PT1H
X-Robots-Tag:noindex
X-PUBLISHED-TTL:PT1H
BEGIN:VTIMEZONE
TZID:Europe/Paris
BEGIN:DAYLIGHT
TZOFFSETFROM:+0100
TZOFFSETTO:+0200
TZNAME:CEST
DTSTART:20250330T010000
END:DAYLIGHT
BEGIN:STANDARD
TZOFFSETFROM:+0200
TZOFFSETTO:+0100
TZNAME:CET
DTSTART:20251026T010000
END:STANDARD
BEGIN:DAYLIGHT
TZOFFSETFROM:+0100
TZOFFSETTO:+0200
TZNAME:CEST
DTSTART:20260329T010000
END:DAYLIGHT
BEGIN:STANDARD
TZOFFSETFROM:+0200
TZOFFSETTO:+0100
TZNAME:CET
DTSTART:20261025T010000
END:STANDARD
BEGIN:DAYLIGHT
TZOFFSETFROM:+0100
TZOFFSETTO:+0200
TZNAME:CEST
DTSTART:20270328T010000
END:DAYLIGHT
BEGIN:STANDARD
TZOFFSETFROM:+0200
TZOFFSETTO:+0100
TZNAME:CET
DTSTART:20271031T010000
END:STANDARD
END:VTIMEZONE
BEGIN:VEVENT
DTSTART;TZID=Europe/Paris:20260309T080000
DTEND;TZID=Europe/Paris:20260313T170000
DTSTAMP:20260421T175709
CREATED:20260305T110117Z
LAST-MODIFIED:20260305T110117Z
UID:10000379-1773043200-1773421200@www.visitnelascoracaododao.pt
SUMMARY:Fluxodrama (público escolar) | Amarelo Silvestre
DESCRIPTION:Começamos a semana\, Março e uma residência artística: Cenas de Revolta\, em que se juntam a Rafaela Santos e a Sónia Baptista\, criadoras\, bailarinas\, coreógrafas\, mulheres\, revolucionárias\, não por esta ordem\, para criar laboratórios artísticos de curta duração. Veremos o resultado em Setembro\, mas contamos poder contar mais até lá.\n\n\n\nDe 9 a 13\, por falar em não descansar\, fazemos um espectáculo que nos tira o sono e nos tira do lugar: fazemos o Fluxodrama para as escolas através do Projecto Alcateia da Fundação Lapa do Lobo. Temos muito para discutir.\n\n\n\n\n\nE no meio de tudo\, como sempre\, será Primavera. Será sempre.
URL:https://www.visitnelascoracaododao.pt/agenda-evento/fluxodrama-publico-escolar-amarelo-silvestre/
CATEGORIES:Amarelo Silvestre
ATTACH;FMTTYPE=image/jpeg:https://www.visitnelascoracaododao.pt/wp-content/uploads/2026/03/Agenda-Amarelo-Silvestre-_-Marco.jpg
END:VEVENT
END:VCALENDAR