BEGIN:VCALENDAR
VERSION:2.0
PRODID:-//Visit Nelas Coração do Dão - ECPv6.15.15//NONSGML v1.0//EN
CALSCALE:GREGORIAN
METHOD:PUBLISH
X-ORIGINAL-URL:https://www.visitnelascoracaododao.pt
X-WR-CALDESC:Eventos para Visit Nelas Coração do Dão
REFRESH-INTERVAL;VALUE=DURATION:PT1H
X-Robots-Tag:noindex
X-PUBLISHED-TTL:PT1H
BEGIN:VTIMEZONE
TZID:Europe/Paris
BEGIN:DAYLIGHT
TZOFFSETFROM:+0100
TZOFFSETTO:+0200
TZNAME:CEST
DTSTART:20250330T010000
END:DAYLIGHT
BEGIN:STANDARD
TZOFFSETFROM:+0200
TZOFFSETTO:+0100
TZNAME:CET
DTSTART:20251026T010000
END:STANDARD
BEGIN:DAYLIGHT
TZOFFSETFROM:+0100
TZOFFSETTO:+0200
TZNAME:CEST
DTSTART:20260329T010000
END:DAYLIGHT
BEGIN:STANDARD
TZOFFSETFROM:+0200
TZOFFSETTO:+0100
TZNAME:CET
DTSTART:20261025T010000
END:STANDARD
BEGIN:DAYLIGHT
TZOFFSETFROM:+0100
TZOFFSETTO:+0200
TZNAME:CEST
DTSTART:20270328T010000
END:DAYLIGHT
BEGIN:STANDARD
TZOFFSETFROM:+0200
TZOFFSETTO:+0100
TZNAME:CET
DTSTART:20271031T010000
END:STANDARD
END:VTIMEZONE
BEGIN:VEVENT
DTSTART;TZID=Europe/Paris:20260304T143000
DTEND;TZID=Europe/Paris:20260304T170000
DTSTAMP:20260421T174728
CREATED:20260225T094526Z
LAST-MODIFIED:20260225T094526Z
UID:10000370-1772634600-1772643600@www.visitnelascoracaododao.pt
SUMMARY:Criar Coragem: fazer acontecer ações artísticas participativas
DESCRIPTION:Criar Coragem: fazer acontecer ações artísticas participativas\nFormação Certificada com Hugo Cruz\n\n\n\nO Caderno Criar Coragem é um recurso para jovens implementarem projetos criativos\, artísticos ou artivistas nas suas comunidades.\n\nOrganizado em três partes\, o caderno estimula a participação\, a crítica e a criação artística\, abordando questões atuais e promovendo a desaprendizagem e o jogo como ferramentas de evolução. Imperfeito por natureza\, assume-se como um repto para continuar a construir a partir da crítica e de novas ações\, ativando a coragem para mais e melhor democracia\, participação e cultura.\nA formação com Hugo Cruz\, dirigida professores\, artistas\, mediadores culturais\, etc.\, sugere um mergulho no Caderno\, Criar\, Coragem como ferramenta para o trabalho artístico e educativo\, possibilitando a aquisição de conhecimentos práticos que permitam a ativação do caderno junto de jovens.\n\n\n\nInscrições e todas as informações em: https://www.cfaeplanaltobeirao.com/formacao/
URL:https://www.visitnelascoracaododao.pt/agenda-evento/criar-coragem-fazer-acontecer-acoes-artisticas-participativas/
LOCATION:Fundação Lapa do Lobo
CATEGORIES:Fundação da Lapa do Lobo
ATTACH;FMTTYPE=image/jpeg:https://www.visitnelascoracaododao.pt/wp-content/uploads/2026/02/641576135_1518624590265999_382374133238195502_n.jpg
END:VEVENT
END:VCALENDAR