BEGIN:VCALENDAR
VERSION:2.0
PRODID:-//Visit Nelas Coração do Dão - ECPv6.15.15//NONSGML v1.0//EN
CALSCALE:GREGORIAN
METHOD:PUBLISH
X-ORIGINAL-URL:https://www.visitnelascoracaododao.pt
X-WR-CALDESC:Eventos para Visit Nelas Coração do Dão
REFRESH-INTERVAL;VALUE=DURATION:PT1H
X-Robots-Tag:noindex
X-PUBLISHED-TTL:PT1H
BEGIN:VTIMEZONE
TZID:Europe/Paris
BEGIN:DAYLIGHT
TZOFFSETFROM:+0100
TZOFFSETTO:+0200
TZNAME:CEST
DTSTART:20250330T010000
END:DAYLIGHT
BEGIN:STANDARD
TZOFFSETFROM:+0200
TZOFFSETTO:+0100
TZNAME:CET
DTSTART:20251026T010000
END:STANDARD
BEGIN:DAYLIGHT
TZOFFSETFROM:+0100
TZOFFSETTO:+0200
TZNAME:CEST
DTSTART:20260329T010000
END:DAYLIGHT
BEGIN:STANDARD
TZOFFSETFROM:+0200
TZOFFSETTO:+0100
TZNAME:CET
DTSTART:20261025T010000
END:STANDARD
BEGIN:DAYLIGHT
TZOFFSETFROM:+0100
TZOFFSETTO:+0200
TZNAME:CEST
DTSTART:20270328T010000
END:DAYLIGHT
BEGIN:STANDARD
TZOFFSETFROM:+0200
TZOFFSETTO:+0100
TZNAME:CET
DTSTART:20271031T010000
END:STANDARD
END:VTIMEZONE
BEGIN:VEVENT
DTSTART;TZID=Europe/Paris:20260227T120000
DTEND;TZID=Europe/Paris:20260301T223000
DTSTAMP:20260421T132454
CREATED:20260203T093847Z
LAST-MODIFIED:20260203T093847Z
UID:10000367-1772193600-1772404200@www.visitnelascoracaododao.pt
SUMMARY:2º Fim de Semana Gastronómico do Coelho
DESCRIPTION:𝐒𝐞𝐠𝐮𝐧𝐝𝐚 𝐞𝐝𝐢𝐜̧𝐚̃𝐨 𝐝𝐨 𝐅𝐢𝐦 𝐝𝐞 𝐒𝐞𝐦𝐚𝐧𝐚 𝐆𝐚𝐬𝐭𝐫𝐨𝐧𝐨́𝐦𝐢𝐜𝐨 𝐝𝐨 𝐂𝐨𝐞𝐥𝐡𝐨 𝐝𝐞𝐜𝐨𝐫𝐫𝐞 𝐝𝐞 𝟐𝟕 𝐝𝐞 𝐟𝐞𝐯𝐞𝐫𝐞𝐢𝐫𝐨 𝐚 𝟏 𝐝𝐞 𝐦𝐚𝐫𝐜̧𝐨 𝐝𝐞 𝟐𝟎𝟐𝟔 𝐧𝐨 𝐂𝐨𝐧𝐜𝐞𝐥𝐡𝐨 𝐝𝐞 𝐍𝐞𝐥𝐚𝐬\, 𝐂𝐨𝐫𝐚𝐜̧𝐚̃𝐨 𝐝𝐨 𝐃𝐚̃𝐨Após o sucesso da primeira edição\, o 𝐅𝐢𝐦 𝐝𝐞 𝐒𝐞𝐦𝐚𝐧𝐚 𝐆𝐚𝐬𝐭𝐫𝐨𝐧𝐨́𝐦𝐢𝐜𝐨 𝐝𝐨 𝐂𝐨𝐞𝐥𝐡𝐨 regressa ao Concelho de Nelas. Durante os 𝐝𝐢𝐚𝐬 𝟐𝟕 𝐞 𝟐𝟖 𝐝𝐞 𝐟𝐞𝐯𝐞𝐫𝐞𝐢𝐫𝐨 𝐞 𝟏 𝐝𝐞 𝐦𝐚𝐫𝐜̧𝐨\, o coelho será a iguaria da restauração local\, prometendo despertar os sentidos tradicionais de todos os que usufruam deste Fim de Semana Gastronómico. O produto será confeccionado de diferentes modos\, resultando em diferentes sugestões que conjugam a tradição com a inovação gastronómica. Prepare-se para uma verdadeira explosão de sabores harmonizada com o néctar da região\, o vinho do Dão.Este é mais um Fim de Semana Gastronómico promovido pelo Município de Nelas no âmbito do projeto “𝐀̀ 𝐌𝐞𝐬𝐚 𝐧𝐨 𝐂𝐨𝐫𝐚𝐜̧𝐚̃𝐨 𝐝𝐨 𝐃𝐚̃𝐨”\, que visa preservar a identidade gastronómica local\, estimular e promover a sua inovação\, valorizar os produtos locais\, promover os serviços deste setor e dinamizar a restauração local.𝐑𝐞𝐬𝐞𝐫𝐯𝐞 𝐣𝐚́ 𝐧𝐚 𝐬𝐮𝐚 𝐚𝐠𝐞𝐧𝐝𝐚!Fique atento\, brevemente daremos a conhecer os restaurantes aderentes e mais informações.#municipiodenelas #festivalgastronomico #fimdesemanagastronomico #colelho #amesanocoracaododao
URL:https://www.visitnelascoracaododao.pt/agenda-evento/2o-fim-de-semana-gastronomico-do-coelho/
CATEGORIES:Fim de Semana Gastronómico
ATTACH;FMTTYPE=image/jpeg:https://www.visitnelascoracaododao.pt/wp-content/uploads/2026/02/coelho-2026-site.jpg
END:VEVENT
BEGIN:VEVENT
DTSTART;TZID=Europe/Paris:20260228T160000
DTEND;TZID=Europe/Paris:20260228T170000
DTSTAMP:20260421T132454
CREATED:20260209T124852Z
LAST-MODIFIED:20260209T124852Z
UID:10000368-1772294400-1772298000@www.visitnelascoracaododao.pt
SUMMARY:(H)À Conversa
DESCRIPTION:O Auditório Maria José Cunha\, na Fundação Lapa do Lobo\, recebe no dia 28 de fevereiro mais uma sessão do ciclo de mesas redondas (H)À Conversa\, desta vez dedicada ao tema da vida e do(s) amor(es). Com moderação de João Paulo Sacadura\, o encontro conta com a presença do psiquiatra e terapeuta familiar Daniel Sampaio.
URL:https://www.visitnelascoracaododao.pt/agenda-evento/ha-conversa/
CATEGORIES:Fundação da Lapa do Lobo
ATTACH;FMTTYPE=image/jpeg:https://www.visitnelascoracaododao.pt/wp-content/uploads/2026/02/631796119_1503963378398787_959326674481265497_n.jpg
END:VEVENT
BEGIN:VEVENT
DTSTART;TZID=Europe/Paris:20260228T160000
DTEND;TZID=Europe/Paris:20260228T170000
DTSTAMP:20260421T132454
CREATED:20260225T090731Z
LAST-MODIFIED:20260225T090731Z
UID:10000369-1772294400-1772298000@www.visitnelascoracaododao.pt
SUMMARY:(H)À Conversa - Sobre a vida e o(s) amores
DESCRIPTION:O psiquiatra e terapeuta familiar Daniel Sampaio vai estar à conversa com João Paulo Sacadura sobre as suas 3 últimas obras:– “COVID 19: relato de um sobrevivente (2021)\, em que relembra o período em que esteve 50 dias internado\, às portas da morte\, ventilado e de coma induzido;– “Para tão curtos amores\, tão longa vida” (2023)\, a história com desafios e conquistas de um amor longo\, num casal que celebrou as Bodas de Ouro;– “Um amor que não se diz: a vida privada de Luís e de Guilherme” (2025)\, a sua obra mais recente\, onde reflete de forma lúcida e corajosa sobre o tema da homossexualidade
URL:https://www.visitnelascoracaododao.pt/agenda-evento/ha-conversa-sobre-a-vida-e-os-amores/
LOCATION:Fundação Lapa do Lobo
CATEGORIES:Fundação da Lapa do Lobo
ATTACH;FMTTYPE=image/jpeg:https://www.visitnelascoracaododao.pt/wp-content/uploads/2026/02/637339396_1512738600854598_602960319359161228_n.jpg
END:VEVENT
END:VCALENDAR