BEGIN:VCALENDAR
VERSION:2.0
PRODID:-//Visit Nelas Coração do Dão - ECPv6.15.15//NONSGML v1.0//EN
CALSCALE:GREGORIAN
METHOD:PUBLISH
X-ORIGINAL-URL:https://www.visitnelascoracaododao.pt
X-WR-CALDESC:Eventos para Visit Nelas Coração do Dão
REFRESH-INTERVAL;VALUE=DURATION:PT1H
X-Robots-Tag:noindex
X-PUBLISHED-TTL:PT1H
BEGIN:VTIMEZONE
TZID:UTC
BEGIN:STANDARD
TZOFFSETFROM:+0000
TZOFFSETTO:+0000
TZNAME:UTC
DTSTART:20240101T000000
END:STANDARD
END:VTIMEZONE
BEGIN:VEVENT
DTSTART;VALUE=DATE:20250620
DTEND;VALUE=DATE:20250625
DTSTAMP:20260419T213237
CREATED:20250521T125516Z
LAST-MODIFIED:20250521T125517Z
UID:10000260-1750377600-1750809599@www.visitnelascoracaododao.pt
SUMMARY:FICA 2025 em Nelas
DESCRIPTION:FICA 2025\n\n\n\nDurante quatro dias\, a FICA conta com artistas nacionais e locais\, atuações de reconhecidos DJs\, e arraiais populares que prometem espetáculo e música para todos os gostos. Marque na sua agenda e prepare-se para dias de muita diversão\, cultura e música!\n\n\n\nA noite de sexta-feira\, 𝟮𝟬 𝗱𝗲 𝗷𝘂𝗻𝗵𝗼\, tem início com os WoodPlan\, banda de covers de estilo focado no rock pós anos 2000 até a atualidade\, com temas de Linkin Park\, System of a Down\, RadioHead\, Muse\, Coldplay\, Imagine Dragons\, Madredeus\, Da Weasel\, entre outros. Segue-se Noninho Navarro\, um dos artistas revelação de 2023\, que promete cativar o público com os seus temas envolventes\, sendo que a noite termina com DJ Kiki\, que apresenta uma setlist variada e ritmos contagiantes que vai certamente animar o after-party deste primeiro dia do FICA.\n\n\nNa sábado\, 𝟮𝟭 𝗱𝗲 𝗷𝘂𝗻𝗵𝗼 sobem ao palco da Praça do Município\, o artista Só\, Rui\, seguido do músico Piruka\, rapper português\, que traz no seu reportório os seus maiores êxitos como “Menino da Mamã”\, “Se Eu Não Acordar Amanhã”\, “Não Se Passa Nada”\, “Impossíveis”\, canções que\, de forma ritmada\, traduzem as vivências deste nome incontornável do hip-hop nacional. Para fechar a noite\, o after-party fica ao cargo de DJ Johnny the Bass\, cuja energia vai certamente contagiar todos os presentes.\n\n\n\nA noite de 𝟮𝟮 𝗱𝗲 𝗷𝘂𝗻𝗵𝗼\, domingo\, será inesquecível com a atuação de Os Quatro e Meia. Com uma carreira brilhante e inúmeros sucessos\, prometem um concerto memorável repleto de hits que tocam o coração. A festa continua com o DJ Cá7Time\, artista natural de Canas de Senhorim\, que traz clássicos intemporais\, hits recentes e sonoridades únicas para animar o público.\n\n\nNa 𝗡𝗼𝗶𝘁𝗲 𝗱𝗲 𝗦𝗮̃𝗼 𝗝𝗼𝗮̃𝗼\, 𝟮𝟯 𝗱𝗲 𝗷𝘂𝗻𝗵𝗼\, o programa é dedicado às Marchas Populares que saem às ruas para celebrar a tradição com desfiles coloridos\, na Vila de Nelas pelas Associação Recreativa e Cultural do Santo António – Bairro da Igreja e ADRC Cimo do Povo Nelas\, e na Vila de Canas de Senhorim pelas Associações ARCPaço e União Cultural e Recreativa do Rossio\, garantindo brilho e alegria\, marcando a cultura local em cada passo e coreografia. Na Praça do Município\, as celebrações dos Santos Populares continuam com um Arraial popular\, pelos Marotos da Concertina\, um dueto que vai trazer muito ritmo e animação. A noite encerra novamente com o DJ Kiki.\n\n\n\nO dia 𝟮𝟰 𝗱𝗲 𝗷𝘂𝗻𝗵𝗼\, 𝗗𝗶𝗮 𝗱𝗼 𝗠𝘂𝗻𝗶𝗰𝗶́𝗽𝗶𝗼\, conta ainda com comemorações\, distinções municipais\, e merecidas homenagens a Empresas\, Entidades e Personalidades pelo seu mérito e contributo relevantes que enaltecem enaltecimento o desenvolvimento do Concelho\, Nelas Coração do Dão.\n\n\nA 2ª Edição FICA representa assim um marco importante para o Município de Nelas\, promovendo a interação entre diferentes setores de atividade\, destacando a vitalidade e o dinamismo do Concelho de Nelas e da Região do Dão.\n\n\nFICA e diverte-te no Coração do Dão! Mais informações brevemente.\n\n\n\n\n 𝗕𝗜𝗟𝗛𝗘𝗧𝗘𝗜𝗥𝗔\n\n Sexta-feira\, 20 de junho – 3.00€\n Sábado\, 21 de junho – 4.00€\n Domingo\, 22 de junho – 5.00€\n 𝐁𝐢𝐥𝐡𝐞𝐭𝐞 𝐆𝐞𝐫𝐚𝐥 – 10.00€\n\n\n Segunda-feira\, 23 de junho\, noite de Marchas Populares – Entrada livre\n\n\n𝗢𝘀 𝗯𝗶𝗹𝗵𝗲𝘁𝗲𝘀 𝗽𝗼𝗱𝗲𝗺 𝘀𝗲𝗿 𝗮𝗱𝗾𝘂𝗶𝗿𝗶𝗱𝗼𝘀:\n 𝗢𝗻𝗹𝗶𝗻𝗲 𝗲𝗺 cmnelas.2ticket.pt\n 𝗣𝗿𝗲𝘀𝗲𝗻𝗰𝗶𝗮𝗹𝗺𝗲𝗻𝘁𝗲 na Câmara Municipal de Nelas – segunda a sexta [09h00 às 13h00 e 14h00 às 17h00]\n 𝗖𝗶𝗻𝗲𝘁𝗲𝗮𝘁𝗿𝗼 𝗠𝘂𝗻𝗶𝗰𝗶𝗽𝗮𝗹 𝗱𝗲 𝗡𝗲𝗹𝗮𝘀 em dias de espetáculos\n\n\n#MunicipiodeNelas #FICA2025 #NelasCoracaodoDao
URL:https://www.visitnelascoracaododao.pt/agenda-evento/fica-2025-em-nelas/
LOCATION:Praça do Município
CATEGORIES:Biblioteca Municipal,Biblioteca Sobre Rodas,Cultura,Elos,Elos de Leitura,evento
END:VEVENT
BEGIN:VEVENT
DTSTART;TZID=UTC:20250622T150000
DTEND;TZID=UTC:20250622T170000
DTSTAMP:20260419T213237
CREATED:20250616T153725Z
LAST-MODIFIED:20250616T153758Z
UID:10000281-1750604400-1750611600@www.visitnelascoracaododao.pt
SUMMARY:Super Charlie - Cineteatro Municipal de Nelas
DESCRIPTION:𝐂𝐢𝐧𝐞𝐭𝐞𝐚𝐭𝐫𝐨 𝐌𝐮𝐧𝐢𝐜𝐢𝐩𝐚𝐥 𝐝𝐞 𝐍𝐞𝐥𝐚𝐬 – Super Charlie \n 𝐃𝐚𝐭𝐚: 22 de junho 𝐇𝐨𝐫𝐚: 15h00𝐋𝐨𝐜𝐚𝐥: Cine Teatro Municipal de Nelas 𝐁𝐢𝐥𝐡𝐞𝐭𝐞: Gratuito (lugares limitados)𝐎𝐧𝐥𝐢𝐧𝐞: https://cmnelas.2ticket.pt/𝐏𝐫𝐞𝐬𝐞𝐧𝐜𝐢𝐚𝐥𝐦𝐞𝐧𝐭𝐞: Câmara Municipal de Nelas Mais informações: 232 941 300 \nWille sempre sonhou tornar-se um super-herói e combater o crime ao lado do pai. Este sonho é destruído quando nasce o irmão mais novo de Willes\, Charlie. Charlie atrai todas as atenções e\, ainda por cima\, tem superpoderes. \nQuando um supervilão e um cientista maléfico planeiam derrubar a cidade\, Wille e Charlie têm de pôr as desavenças de lado e trabalhar em equipa. Conseguirão um bebé e o seu irmão invejoso salvar a cidade? \nM/6 . Animação . 80 minutos
URL:https://www.visitnelascoracaododao.pt/agenda-evento/super-charlie-cineteatro-municipal-de-nelas-2/
LOCATION:Cineteatro de Nelas
CATEGORIES:Cinema
ATTACH;FMTTYPE=image/jpeg:https://www.visitnelascoracaododao.pt/wp-content/uploads/2025/06/Super-Charlie-22-junho.jpg
END:VEVENT
BEGIN:VEVENT
DTSTART;TZID=UTC:20250622T220000
DTEND;TZID=UTC:20250622T233000
DTSTAMP:20260419T213237
CREATED:20250528T143331Z
LAST-MODIFIED:20250528T143331Z
UID:10000264-1750629600-1750635000@www.visitnelascoracaododao.pt
SUMMARY:FICA - 3ª noite de festa
DESCRIPTION:𝟮ª 𝗘𝗱𝗶𝗰̧𝗮̃𝗼 𝗱𝗮 𝗙𝗜𝗖𝗔 – 𝗙𝗲𝗶𝗿𝗮 𝗜𝗻𝗱𝘂𝘀𝘁𝗿𝗶𝗮𝗹\, 𝗖𝗼𝗺𝗲𝗿𝗰𝗶𝗮𝗹\, 𝗔𝗴𝗿𝗶́𝗰𝗼𝗹𝗮 𝗲 𝗔𝘀𝘀𝗼𝗰𝗶𝗮𝘁𝗶𝘃𝗮\n𝗠𝘂𝗶𝘁𝗮 𝗮𝗻𝗶𝗺𝗮𝗰̧𝗮̃𝗼 𝗻𝗼 𝗱𝗶𝗮 𝟮𝟮 𝗱𝗲 𝗷𝘂𝗻𝗵𝗼 𝗰𝗼𝗺 𝗢𝘀 𝗤𝘂𝗮𝘁𝗿𝗼 𝗲 𝗠𝗲𝗶𝗮 𝗲 𝗗𝗝 𝗖𝗮́𝟳𝗧𝗶𝗺𝗲\n\n\n\nA noite de 22 de junho será inesquecível com a atuação de 𝗢𝘀 𝗤𝘂𝗮𝘁𝗿𝗼 𝗲 𝗠𝗲𝗶𝗮. Com uma carreira brilhante e inúmeros sucessos\, prometem um concerto memorável repleto de hits que tocam o coração. A festa continua com o 𝗗𝗝 𝗖𝗮́𝟳𝗧𝗶𝗺𝗲\, artista natural de Canas de Senhorim\, que traz clássicos intemporais\, hits recentes e sonoridades únicas para animar o público.\n\n\nMarque já na sua agenda e prepare-se para uma noite inesquecível!\nFICA e diverte-te no Coração do Dão!\n\n\n\n 𝗕𝗜𝗟𝗛𝗘𝗧𝗘 . 𝟮𝟮 𝗗𝗘 𝗝𝗨𝗡𝗛𝗢 – 𝟱.𝟬𝟬€\n𝗢𝘀 𝗯𝗶𝗹𝗵𝗲𝘁𝗲𝘀 𝗽𝗼𝗱𝗲𝗺 𝘀𝗲𝗿 𝗮𝗱𝗾𝘂𝗶𝗿𝗶𝗱𝗼𝘀:\n 𝗢𝗻𝗹𝗶𝗻𝗲 𝗲𝗺 cmnelas.2ticket.pt\n 𝗣𝗿𝗲𝘀𝗲𝗻𝗰𝗶𝗮𝗹𝗺𝗲𝗻𝘁𝗲 na Câmara Municipal de Nelas – segunda a sexta [09h00 às 13h00 e 14h00 às 17h00]\n 𝗖𝗶𝗻𝗲𝘁𝗲𝗮𝘁𝗿𝗼 𝗠𝘂𝗻𝗶𝗰𝗶𝗽𝗮𝗹 𝗱𝗲 𝗡𝗲𝗹𝗮𝘀 em dias de espetáculos\n\n\n𝗕𝗜𝗟𝗛𝗘𝗧𝗘 𝗚𝗘𝗥𝗔𝗟 [dias 20\, 21 e 22 de junho] – 10.00€\n\n\n\n#MunicipiodeNelas #FICA2025 #NelasCoracaodoDao
URL:https://www.visitnelascoracaododao.pt/agenda-evento/fica-3a-noite-de-festa/
CATEGORIES:Festa 25
ATTACH;FMTTYPE=image/jpeg:https://www.visitnelascoracaododao.pt/wp-content/uploads/2025/05/Os-quatro-e-meia.jpg
END:VEVENT
END:VCALENDAR