BEGIN:VCALENDAR
VERSION:2.0
PRODID:-//Visit Nelas Coração do Dão - ECPv6.15.15//NONSGML v1.0//EN
CALSCALE:GREGORIAN
METHOD:PUBLISH
X-WR-CALNAME:Visit Nelas Coração do Dão
X-ORIGINAL-URL:https://www.visitnelascoracaododao.pt
X-WR-CALDESC:Eventos para Visit Nelas Coração do Dão
REFRESH-INTERVAL;VALUE=DURATION:PT1H
X-Robots-Tag:noindex
X-PUBLISHED-TTL:PT1H
BEGIN:VTIMEZONE
TZID:UTC
BEGIN:STANDARD
TZOFFSETFROM:+0000
TZOFFSETTO:+0000
TZNAME:UTC
DTSTART:20240101T000000
END:STANDARD
END:VTIMEZONE
BEGIN:VEVENT
DTSTART;TZID=UTC:20250614T080000
DTEND;TZID=UTC:20250615T170000
DTSTAMP:20260420T090501
CREATED:20250611T123410Z
LAST-MODIFIED:20250611T123438Z
UID:10000278-1749888000-1750006800@www.visitnelascoracaododao.pt
SUMMARY:Festas do Rio Moreira
DESCRIPTION:AS FESTAS DO RIO ESTÃO A CHEGAR A MOREIRA! \n\n 14 e 15 de Junho\n À beira rio\, em Moreira\n\n\n\nPrepara-te para dois dias cheios de tradição\, animação e muita gargalhada! \n\n\n\n Travessia do Pontão – Consegues atravessar o rio numa tábua estreita com a bicicleta?\n Temos prémios para os 3 primeiros:\n 1.º lugar – 100 Pontões\n 2.º lugar – 50 Pontões\n 3.º lugar – 25 Pontões\n\n\n\n E claro\, não podia faltar a mítica Subida ao Bacalhau! Será que chegas lá acima? \n\n\n\n Música\,  petiscos\,  bailarico e diversão para toda a família!\n\n\n\nMarca na agenda e vem viver a festa mais divertida do ano!
URL:https://www.visitnelascoracaododao.pt/agenda-evento/festas-do-rio-moreira/
LOCATION:Moreira
CATEGORIES:Associativismo,Moreira
ATTACH;FMTTYPE=image/jpeg:https://www.visitnelascoracaododao.pt/wp-content/uploads/2025/06/WhatsApp-Image-2025-06-11-at-12.51.58.jpeg
END:VEVENT
END:VCALENDAR