BEGIN:VCALENDAR
VERSION:2.0
PRODID:-//Visit Nelas Coração do Dão - ECPv6.15.15//NONSGML v1.0//EN
CALSCALE:GREGORIAN
METHOD:PUBLISH
X-ORIGINAL-URL:https://www.visitnelascoracaododao.pt
X-WR-CALDESC:Eventos para Visit Nelas Coração do Dão
REFRESH-INTERVAL;VALUE=DURATION:PT1H
X-Robots-Tag:noindex
X-PUBLISHED-TTL:PT1H
BEGIN:VTIMEZONE
TZID:UTC
BEGIN:STANDARD
TZOFFSETFROM:+0000
TZOFFSETTO:+0000
TZNAME:UTC
DTSTART:20240101T000000
END:STANDARD
END:VTIMEZONE
BEGIN:VEVENT
DTSTART;TZID=UTC:20250613T213000
DTEND;TZID=UTC:20250613T233000
DTSTAMP:20260420T141523
CREATED:20250604T130015Z
LAST-MODIFIED:20250604T130147Z
UID:10000269-1749850200-1749857400@www.visitnelascoracaododao.pt
SUMMARY:Missão: Impossível - O Ajuste de Contas Final
DESCRIPTION:𝐂𝐢𝐧𝐞𝐭𝐞𝐚𝐭𝐫𝐨 𝐌𝐮𝐧𝐢𝐜𝐢𝐩𝐚𝐥 𝐝𝐞 𝐍𝐞𝐥𝐚𝐬 – Missão: Impossível – O Ajuste de Contas Final 𝐃𝐚𝐭𝐚: 13 de junho 𝐇𝐨𝐫𝐚: 21h30𝐋𝐨𝐜𝐚𝐥: Cine Teatro Municipal de Nelas 𝐁𝐢𝐥𝐡𝐞𝐭𝐞: 2\,5€ (lugares limitados)𝐎𝐧𝐥𝐢𝐧𝐞: https://cmnelas.2ticket.pt/𝐏𝐫𝐞𝐬𝐞𝐧𝐜𝐢𝐚𝐥𝐦𝐞𝐧𝐭𝐞: Câmara Municipal de Nelas Mais informações: 232 941 300 \nAs nossas vidas são a soma das nossas escolhas. Tom Cruise é Ethan Hunt em Missão: Impossível – O Ajuste de Contas Final. \nEthan Hunt (Tom Cruise) é acompanhado nos acontecimentos que sucederam a missão dela ao lado da sua tripulação do FMI para impedir as consequências trágicas de uma Inteligência Artificial no sistema global de computadores. Tendo a certeza de que nossas vidas são definidas pela soma das nossas escolhas\, Ethan continua sua busca pela entidade\, mas acaba se deparando com grandes governantes poderosos ao redor do mundo. Ao lado de novos aliados\, uma corrida contra o tempo definirá o destino da realidade que conhecemos hoje. \nM/14 . Animação . 170 minutos
URL:https://www.visitnelascoracaododao.pt/agenda-evento/missao-impossivel-o-ajuste-de-contas-final/
CATEGORIES:Cinema
ATTACH;FMTTYPE=image/jpeg:https://www.visitnelascoracaododao.pt/wp-content/uploads/2025/06/Missao-Impossivel.jpg
END:VEVENT
END:VCALENDAR