BEGIN:VCALENDAR
VERSION:2.0
PRODID:-//Visit Nelas Coração do Dão - ECPv6.15.15//NONSGML v1.0//EN
CALSCALE:GREGORIAN
METHOD:PUBLISH
X-ORIGINAL-URL:https://www.visitnelascoracaododao.pt
X-WR-CALDESC:Eventos para Visit Nelas Coração do Dão
REFRESH-INTERVAL;VALUE=DURATION:PT1H
X-Robots-Tag:noindex
X-PUBLISHED-TTL:PT1H
BEGIN:VTIMEZONE
TZID:UTC
BEGIN:STANDARD
TZOFFSETFROM:+0000
TZOFFSETTO:+0000
TZNAME:UTC
DTSTART:20240101T000000
END:STANDARD
END:VTIMEZONE
BEGIN:VEVENT
DTSTART;TZID=UTC:20250610T150000
DTEND;TZID=UTC:20250610T190000
DTSTAMP:20260420T191631
CREATED:20250603T091210Z
LAST-MODIFIED:20250603T091210Z
UID:10000267-1749567600-1749582000@www.visitnelascoracaododao.pt
SUMMARY:Dia da Criança - Canas de Senhorim
DESCRIPTION:No próximo dia 10 de Junho às 15h.Não faltes à chamada  \nEstão todos convidados a virem divertir-se ao parque das piscinas de Canas de Senhorim
URL:https://www.visitnelascoracaododao.pt/agenda-evento/dia-da-crianca-canas-de-senhorim/
LOCATION:Canas de Senhorim\, Portugal
CATEGORIES:Dia da Criança
ATTACH;FMTTYPE=image/jpeg:https://www.visitnelascoracaododao.pt/wp-content/uploads/2025/06/494760175_1104109201745930_2989566805880347896_n.jpg
END:VEVENT
END:VCALENDAR