BEGIN:VCALENDAR
VERSION:2.0
PRODID:-//Visit Nelas Coração do Dão - ECPv6.15.15//NONSGML v1.0//EN
CALSCALE:GREGORIAN
METHOD:PUBLISH
X-WR-CALNAME:Visit Nelas Coração do Dão
X-ORIGINAL-URL:https://www.visitnelascoracaododao.pt
X-WR-CALDESC:Eventos para Visit Nelas Coração do Dão
REFRESH-INTERVAL;VALUE=DURATION:PT1H
X-Robots-Tag:noindex
X-PUBLISHED-TTL:PT1H
BEGIN:VTIMEZONE
TZID:UTC
BEGIN:STANDARD
TZOFFSETFROM:+0000
TZOFFSETTO:+0000
TZNAME:UTC
DTSTART:20240101T000000
END:STANDARD
END:VTIMEZONE
BEGIN:VEVENT
DTSTART;TZID=UTC:20250608T153000
DTEND;TZID=UTC:20250608T170000
DTSTAMP:20260420T231012
CREATED:20250604T124418Z
LAST-MODIFIED:20250604T124418Z
UID:10000268-1749396600-1749402000@www.visitnelascoracaododao.pt
SUMMARY:Lilo e Stitch - Cinema no Coração do Dão
DESCRIPTION:𝐂𝐢𝐧𝐞𝐭𝐞𝐚𝐭𝐫𝐨 𝐌𝐮𝐧𝐢𝐜𝐢𝐩𝐚𝐥 𝐝𝐞 𝐍𝐞𝐥𝐚𝐬 – Lilo e Stitch 𝐃𝐚𝐭𝐚: 8 de junho 𝐇𝐨𝐫𝐚: 15h30𝐋𝐨𝐜𝐚𝐥: Cine Teatro Municipal de Nelas 𝐁𝐢𝐥𝐡𝐞𝐭𝐞: 2\,5€ (lugares limitados)𝐎𝐧𝐥𝐢𝐧𝐞: https://cmnelas.2ticket.pt/𝐏𝐫𝐞𝐬𝐞𝐧𝐜𝐢𝐚𝐥𝐦𝐞𝐧𝐭𝐞: Câmara Municipal de Nelas Mais informações: 232 941 300Uma adaptação em imagem real do clássico de animação de 2002 da Disney\, “Lilo & Stitch” é a história engraçada e emocionante de uma rapariga havaiana solitária e do alienígena fugitivo que a ajuda a recuperar a sua família desfeita.  \nRealizado por: Dean Fleischer Camp \nEscrito por: Chris Kekaniokalani Bright\, Mike Van Waens \nProduzido por: Jonathan Eirich\, p.g.a\, Dan Lin \nElenco: Maia Kealoha\, Sydney Elizebeth Agudong\, Tia Carrere\, Courtney B.Vance \n  \nN/A . Animação . 108 minutos
URL:https://www.visitnelascoracaododao.pt/agenda-evento/lilo-e-stitch-cinema-no-coracao-do-dao/
LOCATION:Cineteatro de Nelas
CATEGORIES:Cinema
ATTACH;FMTTYPE=image/jpeg:https://www.visitnelascoracaododao.pt/wp-content/uploads/2025/06/Lilo-e-Stitch.jpg
END:VEVENT
END:VCALENDAR