BEGIN:VCALENDAR
VERSION:2.0
PRODID:-//Visit Nelas Coração do Dão - ECPv6.15.15//NONSGML v1.0//EN
CALSCALE:GREGORIAN
METHOD:PUBLISH
X-WR-CALNAME:Visit Nelas Coração do Dão
X-ORIGINAL-URL:https://www.visitnelascoracaododao.pt
X-WR-CALDESC:Eventos para Visit Nelas Coração do Dão
REFRESH-INTERVAL;VALUE=DURATION:PT1H
X-Robots-Tag:noindex
X-PUBLISHED-TTL:PT1H
BEGIN:VTIMEZONE
TZID:UTC
BEGIN:STANDARD
TZOFFSETFROM:+0000
TZOFFSETTO:+0000
TZNAME:UTC
DTSTART:20240101T000000
END:STANDARD
END:VTIMEZONE
BEGIN:VEVENT
DTSTART;TZID=UTC:20250523T210000
DTEND;TZID=UTC:20250523T223000
DTSTAMP:20260420T121418
CREATED:20250512T150455Z
LAST-MODIFIED:20250512T150520Z
UID:10000250-1748034000-1748039400@www.visitnelascoracaododao.pt
SUMMARY:A casa morreu/Diário de uma República III
DESCRIPTION:Fazemos a antestreia do Diário sobre a Casa em casa\, em Canas de Senhorim\, nos dias 22 e 23 de Maio\, às 21:00\, no Auditório dos Bombeiros de Canas de Senhorim.\n\n\nA casa morreu / Diário de uma República III\n\n\n\nA habitação não anda direita\, apesar de ser um direito. Há casas sem gente\, há gente sem casa\, há casas onde não cabe mais gente. A habitação-negócio é a negação da casa-lar. Morreram as casas como as conhecíamos. O que fazer perante isso? Colocar os dedos todos na ferida. Fazer doer ainda mais.\n\n\n\nEsta é a III edição de Diário de uma República\, projecto de Teatro e Fotografia da Amarelo Silvestre. Um olhar-ver artístico atento ao que vão sendo as pessoas e as paisagens de Portugal entre 2020 e 2030\, com fotografias de Augusto Brázio e Nelson d’Aires.\n\n\n\nBilhetes 6\,00€\nPara reserva e mais informações:\nTelm. 939 361 267\namarelosilvestre@gmail.com.\n\n\n\nFicha artística e técnica\n\n\n\nDirecção Artística Fernando Giestas\nApoio Direcção Artística Rafaela Santos\nFotografia Augusto Brázio e Nelson d’Aires\nInterpretação Daniel Teixeira Pinto\, Fernando Giestas e Rafaela Santos\nApoio Movimento Pietro Romani\nCenografia Henrique Ralheta\nDesenho Luz Guilherme Pompeu\nMúsica José Pedro Pinto e Leonardo Outeiro\nOperação Técnica Marlene Ramos\nOperação Som Leonardo Patrício\nConsultoria Artística Alex Cassal e Fernanda Eugénio\nEquipa Amarelo Silvestre Marlene Ramos e Susana Figueira Henriques (Produção Executiva)\, Carla Ramos (Gestão)\, Cátia Veloso Marques (Mediação)\, Maria Inês Santos (Redes Sociais)\nProdução Amarelo Silvestre\nCo-Produção Cineteatro Louletano\nResidências Artísticas Almada (Companhia de Teatro / Festival de Teatro)\, Coimbra (Teatro Académico Gil Vicente)\, Covilhã (Quarta Parede)\, Loulé (Cineteatro Louletano)\, Nelas (As Casas do Visconde)\nColaboração Canto e Encanto\n\n\nAgradecimento: Dual Borgstena Textile Portugal\, DS Smith\, Lda\n\n\nParceria As Casas do Visconde\, Associação Humanitária dos Bombeiros Voluntários de Canas de Senhorim\, Junta de Freguesia de Canas de Senhorim\nParceria Media Antena 2\nApoio Câmara Municipal de Nelas e Direcção-Geral das Artes\n\n\n\nDuração 75 min\nClassificação etária m/14
URL:https://www.visitnelascoracaododao.pt/agenda-evento/a-casa-morreu-diario-de-uma-republica-iii/
ATTACH;FMTTYPE=image/jpeg:https://www.visitnelascoracaododao.pt/wp-content/uploads/2025/05/A-casa-morreu-_-Amarelo-Silvestre.jpg
END:VEVENT
BEGIN:VEVENT
DTSTART;TZID=UTC:20250523T213000
DTEND;TZID=UTC:20250523T233000
DTSTAMP:20260420T121418
CREATED:20250423T105120Z
LAST-MODIFIED:20250508T104428Z
UID:10000222-1748035800-1748043000@www.visitnelascoracaododao.pt
SUMMARY:OS THUNDERBOLTS - Cinema no Coração do Dão
DESCRIPTION: 𝐂𝐢𝐧𝐞𝐭𝐞𝐚𝐭𝐫𝐨 𝐌𝐮𝐧𝐢𝐜𝐢𝐩𝐚𝐥 𝐝𝐞 𝐍𝐞𝐥𝐚𝐬 – OS THUNDERBOLTS 𝐃𝐚𝐭𝐚: 23 de maio 𝐇𝐨𝐫𝐚: 21h30𝐋𝐨𝐜𝐚𝐥: Cine Teatro Municipal de Nelas 𝐁𝐢𝐥𝐡𝐞𝐭𝐞: 2\,5€ (lugares limitados)𝐎𝐧𝐥𝐢𝐧𝐞: https://cmnelas.2ticket.pt/𝐏𝐫𝐞𝐬𝐞𝐧𝐜𝐢𝐚𝐥𝐦𝐞𝐧𝐭𝐞: Câmara Municipal de Nelas Mais informações: 232 941 300Em THUNDERBOLTS a Marvel Studios reúne uma equipa irreverente de anti-heróis – Yelena Belova\, Bucky Barnes\, Red Guardian\, Ghost\, Taskmaster e John Walker. Depois de se verem enredados numa armadilha mortal montada por Valentina Allegra de Fontaine\, estes desiludidos desistentes têm de embarcar numa perigosa missão que os obrigará a confrontar os cantos mais negros dos seus passados. \nSerá que este grupo de anti-heróis se vai destruir ou encontrar a redenção e unir-se como algo mais antes que seja demasiado tarde?𝐀𝐭𝐨𝐫𝐞𝐬: Florence Pugh\, Sebastian Stan\, David Harbour𝐑𝐞𝐚𝐥𝐢𝐳𝐚𝐝𝐨𝐫: Jake Schreier𝐌𝟏𝟐 . 𝐀𝐜̧𝐚̃𝐨 . 𝟏𝟏𝟖 𝐦𝐢𝐧𝐮𝐭𝐨𝐬
URL:https://www.visitnelascoracaododao.pt/agenda-evento/cinema-no-coracao-do-dao-6/
LOCATION:Cineteatro de Nelas
CATEGORIES:Cinema
ATTACH;FMTTYPE=image/jpeg:https://www.visitnelascoracaododao.pt/wp-content/uploads/2025/04/492109633_1158245116334881_3696475097825123012_n.jpg
END:VEVENT
END:VCALENDAR