BEGIN:VCALENDAR
VERSION:2.0
PRODID:-//Visit Nelas Coração do Dão - ECPv6.15.15//NONSGML v1.0//EN
CALSCALE:GREGORIAN
METHOD:PUBLISH
X-ORIGINAL-URL:https://www.visitnelascoracaododao.pt
X-WR-CALDESC:Eventos para Visit Nelas Coração do Dão
REFRESH-INTERVAL;VALUE=DURATION:PT1H
X-Robots-Tag:noindex
X-PUBLISHED-TTL:PT1H
BEGIN:VTIMEZONE
TZID:UTC
BEGIN:STANDARD
TZOFFSETFROM:+0000
TZOFFSETTO:+0000
TZNAME:UTC
DTSTART:20240101T000000
END:STANDARD
END:VTIMEZONE
BEGIN:VEVENT
DTSTART;TZID=UTC:20250201T213000
DTEND;TZID=UTC:20250430T233000
DTSTAMP:20260419T151457
CREATED:20250118T141626Z
LAST-MODIFIED:20250118T141626Z
UID:10000152-1738445400-1746055800@www.visitnelascoracaododao.pt
SUMMARY:Exposição na Fundação Lapa do Lobo
DESCRIPTION:A exposição “Tetralogia: Cintilações do Manto Celeste” – Sinfonias em Negro (noite)\, Azul (céu)\, Ouro (estrelas) e Platina (luz) –  de Nelson Ferreira vai estrear no próximo dia 1 de fevereiro na Galeria de Exposições da Fundação Lapa do Lobo.\n\nEste trabalho apresenta quatro séries distintas produzidas pelo artista nos últimos dois anos: “Pinturas Azuis”\, “Veludo Negro”\, “Ícones” e “PlatiGleam” e estará patente até final de abril de 2025.\n\nSinopse da exposição:\n\nO artista luso-britânico Nelson Ferreira (Portugal\, 1978) domina diversas técnicas artísticas\, cada uma delas profundamente enraizada tanto na tradição como na inovação. Esta exposição apresenta quatro séries distintas produzidas nos últimos dois anos: “Pinturas Azuis”\, “Veludo Negro”\, “Ícones” e “PlatiGleam”. Esta retrospetiva oferece uma viagem de homenagem histórica. O âmbito humano é percecionado pelo artista como um eco da imponência cósmica.\n\nNelson Ferreira é um artista plástico especializado em metodologias de pintura flamenga primitiva do século XV\, bem como em técnicas de desenho e pintura académica do século XIX. É fundador do site www.bargue.org (academia online que ensina métodos de desenho realista do século XIX). No Reino Unido\, foi duas vezes professor convidado para a National Portrait Gallery – tendo sido chamado a ensinar técnicas de desenho renascentista com ponta de prata\, durante a exposição The Encounter – com desenhos de Leonardo\, Dürer e Holbein. É professor convidado de vários museus de arte e universidades em todo o mundo.\n\nDesde 2021\, ensina desenho e pintura aos artistas da Walt Disney nos EUA\, Canadá\, Reino Unido e Singapura\, através das suas equipas na Industrial Light and Magic (16 Óscares de Melhores Efeitos Visuais e 40 nomeações adicionais).\n\nFoi convidado em 2022 para ser artista residente no Museu Nacional de Arte Contemporânea de Portugal. Desde então\, Nelson teve várias exposições individuais em museus nacionais e patrimónios mundiais da UNESCO em Portugal (Lisboa\, Porto\, Batalha\, Cascais)\, Itália (Lucca e Florença)\, Reino Unido (Londres)\, Bangladesh ( Daca)\, Nepal ( Catmandu e Patan) e Arábia Saudita (Thuwal) totalizando cerca de 300.000 visitantes.\nMais informações em www.nelson-ferreira.com\n\nFundação Lapa do Lobo\n\nVISIT NELAS CORAÇÃO DO DÃO… O CAMINHO COMEÇA AQUI \n\nMunicípio de Nelas
URL:https://www.visitnelascoracaododao.pt/agenda-evento/exposicao-na-fundacao-lapa-do-lobo/
LOCATION:Lapa do Lobo
CATEGORIES:Aldeia Cultural,Cultura,evento
ATTACH;FMTTYPE=image/jpeg:https://www.visitnelascoracaododao.pt/wp-content/uploads/2025/01/473798498_1162835095844952_8413627378813348581_n.jpg
END:VEVENT
BEGIN:VEVENT
DTSTART;TZID=UTC:20250404T090000
DTEND;TZID=UTC:20250505T180000
DTSTAMP:20260419T151457
CREATED:20250408T130718Z
LAST-MODIFIED:20250408T130718Z
UID:10000203-1743757200-1746468000@www.visitnelascoracaododao.pt
SUMMARY:International School Cartoon Festival
DESCRIPTION:𝐁𝐢𝐛𝐥𝐢𝐨𝐭𝐞𝐜𝐚 𝐌𝐮𝐧𝐢𝐜𝐢𝐩𝐚𝐥\, 𝐫𝐞𝐜𝐞𝐛𝐞 𝐦𝐨𝐬𝐭𝐫𝐚 𝐝𝐨 𝐈𝐧𝐭𝐞𝐫𝐧𝐚𝐭𝐢𝐨𝐧𝐚𝐥 𝐒𝐜𝐡𝐨𝐨𝐥 𝐂𝐚𝐫𝐭𝐨𝐨𝐧 𝐅𝐞𝐬𝐭𝐢𝐯𝐚𝐥 De 4 de abril a 05 de maio de 2025\, vai estar patente na Biblioteca Municipal de Nelas – António Lobo Antunes\, uma mostra representativa do Festival Internacional de Cartoon Escolar (International School Cartoon Festival). A iniciativa enquadra-se na celebração dos 50 anos do 25 de abril\, sendo a VII edição deste Festival subordinada ao tema da “Liberdade”. Da autoria de alunos portugueses e estrangeiros\, bem como de vários profissionais\, os 18 cartoons apresentados representam uma celebração sem fronteiras\, de um valor essencial a todas as culturas e nacionalidades. O humor surge como a tónica dominante do conjunto de trabalhos\, numa viagem entre a subtileza e a crítica social. Organizada pelo Grupo de Artes Visuais e pela Biblioteca Escolar da Escola Secundária (ES) de Molelos\, do Agrupamento de Escolas Cândido de Figueiredo\, em parceria com o Município de Tondela\, esta VII edição do Festival contou com diversos cartoons\, provenientes de 80 países. A iniciativa resulta de uma parceria estabelecida entre a Rede de Bibliotecas de Nelas (Município e Agrupamento de Escolas)\, com Ricardo Ferreira\, cartoonista e professor da ES de Molelos e um dos organizadores.#Cultura #MunicipioDeNelas #NelasCoraçãodoDão \nVISIT NELAS CORAÇÃO DO DÃO… O CAMINHO COMEÇA AQUI \n 
URL:https://www.visitnelascoracaododao.pt/agenda-evento/international-school-cartoon-festival/
LOCATION:Biblioteca Municipal
CATEGORIES:Biblioteca Municipal
ATTACH;FMTTYPE=image/jpeg:https://www.visitnelascoracaododao.pt/wp-content/uploads/2025/04/489323652_1146013197558073_1026318604048725842_n.jpg
END:VEVENT
BEGIN:VEVENT
DTSTART;VALUE=DATE:20250405
DTEND;VALUE=DATE:20250501
DTSTAMP:20260419T151457
CREATED:20250408T132046Z
LAST-MODIFIED:20250408T132046Z
UID:10000205-1743811200-1746057599@www.visitnelascoracaododao.pt
SUMMARY:Teatro na Amarelo Silvestre
DESCRIPTION:Começamos Abril abrindo as portas da nossa carrinha para darmos boleia para o teatro. Voltamos a estas viagens bonitas do Há lugar para mais 6. Não há melhor forma de continuar a celebrar o Dia Mundial do Teatro que continuar a ir e a fazer com que se faça\, por isso em Abril estreamos a criação do Grupo de Teatro de Crianças da Amarelo Silvestre. Os grupos de teatro são boleias não só para o teatro que se cria neles\, mas para muitos amanhãs. É preciso uma aldeia para criar uma criança e talvez um grupo de teatro também. Até quando já se é adulto.\n\n\nNo dia 11 voltamos ao Teatro Viriato para “Três Tempos”\, criação de Capicua e Gonçalo Alegre.\n\n\n\nO teatro está cheio de futuro.\n\n\nVISIT NELAS CORAÇÃO DO DÃO… O CAMINHO COMEÇA AQUI
URL:https://www.visitnelascoracaododao.pt/agenda-evento/teatro-na-amarelo-silvestre/
LOCATION:Canas de Senhorim\, Portugal
CATEGORIES:Amarelo Silvestre,Teatro
ATTACH;FMTTYPE=image/jpeg:https://www.visitnelascoracaododao.pt/wp-content/uploads/2025/04/488602082_1086926866787469_47592438275634894_n.jpg
END:VEVENT
BEGIN:VEVENT
DTSTART;TZID=UTC:20250405T153000
DTEND;TZID=UTC:20250425T233000
DTSTAMP:20260419T151457
CREATED:20250403T085549Z
LAST-MODIFIED:20250403T085549Z
UID:10000193-1743867000-1745623800@www.visitnelascoracaododao.pt
SUMMARY:Cinema regressa a Nelas
DESCRIPTION:𝐂𝐢𝐧𝐞𝐭𝐞𝐚𝐭𝐫𝐨 𝐌𝐮𝐧𝐢𝐜𝐢𝐩𝐚𝐥 𝐝𝐞 𝐍𝐞𝐥𝐚𝐬 𝐜𝐨𝐦 𝐩𝐫𝐨𝐠𝐫𝐚𝐦𝐚𝐜̧𝐚̃𝐨 𝐫𝐞𝐠𝐮𝐥𝐚𝐫 𝐧𝐚 𝐩𝐫𝐨𝐦𝐨𝐜̧𝐚̃𝐨 𝐝𝐚 𝐂𝐮𝐥𝐭𝐮𝐫𝐚! \n\n\n Anunciamos a programação para este mês de abril de 2025\, que se pretende a partir de agora regular e diversificada\, no Cineteatro Municipal\, com cinema\, teatro\, música\, dança e muito mais. Um investimento na cultura e no lazer para todas as idades e gostos\, num espaço de partilha e de celebração da arte em todas as suas formas.\n\n\nE neste fim de semana\, dia 5 de abril\, o humor invade o Cineteatro Municipal\, com 𝐌𝐢𝐠𝐮𝐞𝐥 𝟕 𝐄𝐬𝐭𝐚𝐜𝐚𝐬 que promete gargalhadas sem fim e boa disposição. Marque já na sua agenda!\n\n𝐃𝐚𝐭𝐚: 05 de abril\n𝐇𝐨𝐫𝐚: 21h30\n𝐋𝐨𝐜𝐚𝐥: Cine Teatro Municipal de Nelas\n𝐁𝐢𝐥𝐡𝐞𝐭𝐞: 7€ (lugares limitados)\nGaranta já o seu bilhete!\n𝐎𝐧𝐥𝐢𝐧𝐞: https://cmnelas.2ticket.pt/\n𝐏𝐫𝐞𝐬𝐞𝐧𝐜𝐢𝐚𝐥𝐦𝐞𝐧𝐭𝐞: Câmara Municipal de Nelas\nMais informações: 232 941 300\n\n\n𝐌𝐨𝐦𝐞𝐧𝐭𝐨𝐬 𝐮́𝐧𝐢𝐜𝐨𝐬 𝐝𝐞 𝐂𝐮𝐥𝐭𝐮𝐫𝐚 𝐧𝐨 𝐂𝐨𝐫𝐚𝐜̧𝐚̃𝐨 𝐝𝐨 𝐃𝐚̃𝐨.\n\n\n\n#NelasCoraçãodoDão #Cultura #CineteatroMunicipal #ProgramaçãoCultural #MunicípioDeNelas\n\n\n\n 𝐂𝐢𝐧𝐞𝐭𝐞𝐚𝐭𝐫𝐨 𝐌𝐮𝐧𝐢𝐜𝐢𝐩𝐚𝐥 𝐝𝐞 𝐍𝐞𝐥𝐚𝐬 𝐜𝐨𝐦 𝐩𝐫𝐨𝐠𝐫𝐚𝐦𝐚𝐜̧𝐚̃𝐨 𝐫𝐞𝐠𝐮𝐥𝐚𝐫 𝐧𝐚 𝐩𝐫𝐨𝐦𝐨𝐜̧𝐚̃𝐨 𝐝𝐚 𝐂𝐮𝐥𝐭𝐮𝐫𝐚! \n\n\n\n Anunciamos a programação para este mês de abril de 2025\, que se pretende a partir de agora regular e diversificada\, no Cineteatro Municipal\, com cinema\, teatro\, música\, dança e muito mais. Um investimento na cultura e no lazer para todas as idades e gostos\, num espaço de partilha e de celebração da arte em todas as suas formas.\n\n\nE neste fim de semana\, dia 5 de abril\, o humor invade o Cineteatro Municipal\, com 𝐌𝐢𝐠𝐮𝐞𝐥 𝟕 𝐄𝐬𝐭𝐚𝐜𝐚𝐬 que promete gargalhadas sem fim e boa disposição. Marque já na sua agenda!\n\n𝐃𝐚𝐭𝐚: 05 de abril\n𝐇𝐨𝐫𝐚: 21h30\n𝐋𝐨𝐜𝐚𝐥: Cine Teatro Municipal de Nelas\n𝐁𝐢𝐥𝐡𝐞𝐭𝐞: 7€ (lugares limitados)\nGaranta já o seu bilhete!\n𝐎𝐧𝐥𝐢𝐧𝐞: https://cmnelas.2ticket.pt/\n𝐏𝐫𝐞𝐬𝐞𝐧𝐜𝐢𝐚𝐥𝐦𝐞𝐧𝐭𝐞: Câmara Municipal de Nelas\nMais informações: 232 941 300\n\n\n𝐌𝐨𝐦𝐞𝐧𝐭𝐨𝐬 𝐮́𝐧𝐢𝐜𝐨𝐬 𝐝𝐞 𝐂𝐮𝐥𝐭𝐮𝐫𝐚 𝐧𝐨 𝐂𝐨𝐫𝐚𝐜̧𝐚̃𝐨 𝐝𝐨 𝐃𝐚̃𝐨.\n\n\n\n\n\nVISIT NELAS CORAÇÃO DO DÃO… O CAMINHO COMEÇA AQUI\n\n\n\n\n\n\n\n\n\n\n\n#NelasCoraçãodoDão #Cultura #CineteatroMunicipal #ProgramaçãoCultural #MunicípioDeNelas
URL:https://www.visitnelascoracaododao.pt/agenda-evento/cinema-regressa-a-nelas/
LOCATION:Cineteatro de Nelas
CATEGORIES:Cinema,Crianças,Cultura,evento,Teatro
ATTACH;FMTTYPE=image/jpeg:https://www.visitnelascoracaododao.pt/wp-content/uploads/2025/04/488230918_1140722901420436_8320136851478105908_n.jpg
END:VEVENT
BEGIN:VEVENT
DTSTART;VALUE=DATE:20250417
DTEND;VALUE=DATE:20250423
DTSTAMP:20260419T151457
CREATED:20250418T111939Z
LAST-MODIFIED:20250418T111939Z
UID:10000215-1744848000-1745366399@www.visitnelascoracaododao.pt
SUMMARY:Páscoa no Coração do Dão
DESCRIPTION: 𝐏𝐚́𝐬𝐜𝐨𝐚 𝐧𝐨 𝐂𝐨𝐫𝐚𝐜̧𝐚̃𝐨 𝐝𝐨 𝐃𝐚̃𝐨 – 𝐂𝐚𝐥𝐞𝐧𝐝𝐚́𝐫𝐢𝐨 𝐝𝐚𝐬 𝐂𝐞𝐥𝐞𝐛𝐫𝐚𝐜̧𝐨̃𝐞𝐬 𝐂𝐚𝐭𝐨́𝐥𝐢𝐜𝐚𝐬 De Quinta-feira Santa (dia 17 de abril de 2025) até Segunda-feira de Páscoa (dia 21 de abril)\, motivos não faltam para visitar o nosso concelho e viver esta festividade religiosa nas várias paróquias.Conheça o programa das celebrações religiosas\, missas\, procissões e vigílias e celebre a Páscoa no Coração do Dão com a nossa comunidade num ambiente de fé e solenidade  \n  \n \n#municipiodenelas #nelascoracaododao #turismoreligioso
URL:https://www.visitnelascoracaododao.pt/agenda-evento/pascoa-no-coracao-do-dao/
LOCATION:Concelho de Nelas
CATEGORIES:Páscoa,Semana Santa
ATTACH;FMTTYPE=image/jpeg:https://www.visitnelascoracaododao.pt/wp-content/uploads/2025/04/491399386_1154151600077566_5260030700877810003_n-1.jpg
END:VEVENT
BEGIN:VEVENT
DTSTART;TZID=UTC:20250420T090000
DTEND;TZID=UTC:20250428T170000
DTSTAMP:20260419T151457
CREATED:20250416T153545Z
LAST-MODIFIED:20250416T153545Z
UID:10000206-1745139600-1745859600@www.visitnelascoracaododao.pt
SUMMARY:Comemorações da Semana Santa
DESCRIPTION:PROGRAMA DA SEMANA SANTA E TRÍDUO PASCAL em Canas de Senhorim. \n \n  \nVISIT NELAS CORAÇÃO DO DÃO… O CAMINHO COMEÇA AQUI \n  \n 
URL:https://www.visitnelascoracaododao.pt/agenda-evento/comemoracoes-da-semana-santa/
LOCATION:Canas de Senhorim\, Portugal
ATTACH;FMTTYPE=image/jpeg:https://www.visitnelascoracaododao.pt/wp-content/uploads/2025/04/489515261_1084481937053377_2500772946714544889_n-1.jpg
END:VEVENT
BEGIN:VEVENT
DTSTART;TZID=UTC:20250422T170000
DTEND;TZID=UTC:20250422T190000
DTSTAMP:20260419T151457
CREATED:20250416T155620Z
LAST-MODIFIED:20250416T155620Z
UID:10000208-1745341200-1745348400@www.visitnelascoracaododao.pt
SUMMARY:Comemorações da Semana Santa
DESCRIPTION:Festa da nossa Padroeira!\n3ª Feira de Páscoa!\nContamos com Todos!\n\n\n\nVISIT NELAS CORAÇÃO DO DÃO… O CAMINHO COMEÇA AQUI
URL:https://www.visitnelascoracaododao.pt/agenda-evento/comemoracoes-da-semana-santa-3/
LOCATION:Folhadal
END:VEVENT
END:VCALENDAR