BEGIN:VCALENDAR
VERSION:2.0
PRODID:-//Visit Nelas Coração do Dão - ECPv6.15.15//NONSGML v1.0//EN
CALSCALE:GREGORIAN
METHOD:PUBLISH
X-ORIGINAL-URL:https://www.visitnelascoracaododao.pt
X-WR-CALDESC:Eventos para Visit Nelas Coração do Dão
REFRESH-INTERVAL;VALUE=DURATION:PT1H
X-Robots-Tag:noindex
X-PUBLISHED-TTL:PT1H
BEGIN:VTIMEZONE
TZID:UTC
BEGIN:STANDARD
TZOFFSETFROM:+0000
TZOFFSETTO:+0000
TZNAME:UTC
DTSTART:20240101T000000
END:STANDARD
END:VTIMEZONE
BEGIN:VEVENT
DTSTART;TZID=UTC:20250201T213000
DTEND;TZID=UTC:20250430T233000
DTSTAMP:20260419T150647
CREATED:20250118T141626Z
LAST-MODIFIED:20250118T141626Z
UID:10000152-1738445400-1746055800@www.visitnelascoracaododao.pt
SUMMARY:Exposição na Fundação Lapa do Lobo
DESCRIPTION:A exposição “Tetralogia: Cintilações do Manto Celeste” – Sinfonias em Negro (noite)\, Azul (céu)\, Ouro (estrelas) e Platina (luz) –  de Nelson Ferreira vai estrear no próximo dia 1 de fevereiro na Galeria de Exposições da Fundação Lapa do Lobo.\n\nEste trabalho apresenta quatro séries distintas produzidas pelo artista nos últimos dois anos: “Pinturas Azuis”\, “Veludo Negro”\, “Ícones” e “PlatiGleam” e estará patente até final de abril de 2025.\n\nSinopse da exposição:\n\nO artista luso-britânico Nelson Ferreira (Portugal\, 1978) domina diversas técnicas artísticas\, cada uma delas profundamente enraizada tanto na tradição como na inovação. Esta exposição apresenta quatro séries distintas produzidas nos últimos dois anos: “Pinturas Azuis”\, “Veludo Negro”\, “Ícones” e “PlatiGleam”. Esta retrospetiva oferece uma viagem de homenagem histórica. O âmbito humano é percecionado pelo artista como um eco da imponência cósmica.\n\nNelson Ferreira é um artista plástico especializado em metodologias de pintura flamenga primitiva do século XV\, bem como em técnicas de desenho e pintura académica do século XIX. É fundador do site www.bargue.org (academia online que ensina métodos de desenho realista do século XIX). No Reino Unido\, foi duas vezes professor convidado para a National Portrait Gallery – tendo sido chamado a ensinar técnicas de desenho renascentista com ponta de prata\, durante a exposição The Encounter – com desenhos de Leonardo\, Dürer e Holbein. É professor convidado de vários museus de arte e universidades em todo o mundo.\n\nDesde 2021\, ensina desenho e pintura aos artistas da Walt Disney nos EUA\, Canadá\, Reino Unido e Singapura\, através das suas equipas na Industrial Light and Magic (16 Óscares de Melhores Efeitos Visuais e 40 nomeações adicionais).\n\nFoi convidado em 2022 para ser artista residente no Museu Nacional de Arte Contemporânea de Portugal. Desde então\, Nelson teve várias exposições individuais em museus nacionais e patrimónios mundiais da UNESCO em Portugal (Lisboa\, Porto\, Batalha\, Cascais)\, Itália (Lucca e Florença)\, Reino Unido (Londres)\, Bangladesh ( Daca)\, Nepal ( Catmandu e Patan) e Arábia Saudita (Thuwal) totalizando cerca de 300.000 visitantes.\nMais informações em www.nelson-ferreira.com\n\nFundação Lapa do Lobo\n\nVISIT NELAS CORAÇÃO DO DÃO… O CAMINHO COMEÇA AQUI \n\nMunicípio de Nelas
URL:https://www.visitnelascoracaododao.pt/agenda-evento/exposicao-na-fundacao-lapa-do-lobo/
LOCATION:Lapa do Lobo
CATEGORIES:Aldeia Cultural,Cultura,evento
ATTACH;FMTTYPE=image/jpeg:https://www.visitnelascoracaododao.pt/wp-content/uploads/2025/01/473798498_1162835095844952_8413627378813348581_n.jpg
END:VEVENT
BEGIN:VEVENT
DTSTART;TZID=UTC:20250307T090000
DTEND;TZID=UTC:20250322T233000
DTSTAMP:20260419T150647
CREATED:20250301T194841Z
LAST-MODIFIED:20250329T203704Z
UID:10000190-1741338000-1742686200@www.visitnelascoracaododao.pt
SUMMARY:Amarelo Silvestre reúne agentes da cultura de todo o país para “matar o litoral” em Canas de Senhorim
DESCRIPTION:Como não matar o litoral? É a provocação da Amarelo Silvestre\, companhia de teatro sediada em Canas de Senhorim\, que resolve aproveitar o dia em que lança um livro que celebra os seus 15 anos de existência para organizar uma conversa pública\, que conta já com mais de 60 confirmações de pessoas dos mais diversos eixos da cultura de todo o país. A conversa acontece no dia 22 de março\, entre as 15:00 e as 17:00\, n’As Casas do Visconde\, em Canas de Senhorim. \nElementos de diversas áreas e proveniências como artistas\, programadores culturais\, jornalistas\, agentes políticos\, escritores\, pensadores\, mediadores e pessoas da comunidade da região reúnem-se à mesa para debater os próximos 15 anos da cultura em Portugal a partir da ideia de “Movimento Interior – Como não matar o litoral para deixar florescer o resto?”. A Amarelo Silvestre avança que se procura\, neste encontro\, entender o interior não como antónimo de litoral\, não como sinónimo de inferioridade\, mas como lugar de inquietação onde há mais tempo para se olhar com outro detalhe. Por outro lado\, o mesmo interior onde quase não há jornalistas para escrever notícias\, não há críticos de arte e em que se sofre a tendência das programações dos teatros\, a nível nacional\, assentarem em propostas de Lisboa e do Porto. \nEste encontro será realizado numa mesa longa\, com inspiração no projeto “The Long Table”\, do colectivo Split Britches\, de Londres. Este consiste numa forma de debate que utiliza o cenário de uma mesa de jantar doméstica para promover uma conversa pública\, a partir de um formato aberto e não hierárquico de participação. Este momento terá a moderação informal da investigadora Ana Pais. \nNo mesmo dia\, e por ocasião da celebração do seu 15º aniversário\, a companhia lança o livro “A árvore não cai – Pelo menos hoje\, amanhã logo se vê”\, que reúne 15 anos de teatro\, e tudo o resto\, a partir de Canas de Senhorim. O livro foi escrito pelos fundadores da Amarelo Silvestre\, Fernando Giestas e Rafaela Santos\, e por Liliana Garcia. \nA conversa é pública e livre. A discussão é necessária e urgente. \n \n  \nVISIT NELAS CORAÇÃO DO DÃO… O CAMINHO COMEÇA AQUI \nAmarelo Silvestre \n  \n 
URL:https://www.visitnelascoracaododao.pt/agenda-evento/amarelo-silvestre-reune-agentes-da-cultura-de-todo-o-pais-para-matar-o-litoral-em-canas-de-senhorim/
LOCATION:Canas de Senhorim\, Portugal
CATEGORIES:Amarelo Silvestre,Associativismo,Cultura
ATTACH;FMTTYPE=image/jpeg:https://www.visitnelascoracaododao.pt/wp-content/uploads/2025/03/482066221_1059907122822777_8645613476569597688_n.jpg
END:VEVENT
BEGIN:VEVENT
DTSTART;TZID=UTC:20250321T090000
DTEND;TZID=UTC:20250330T233000
DTSTAMP:20260419T150647
CREATED:20250320T140220Z
LAST-MODIFIED:20250320T140220Z
UID:10000185-1742547600-1743377400@www.visitnelascoracaododao.pt
SUMMARY:Nesta Primavera\, Cena1/25 traz cultura a Nelas\, Coração do Dão
DESCRIPTION: Consulte aqui a Programação\n\n\n\nDe 21 a 30 março 2025\, o Município de Nelas promove o evento “CENA 1/25 – Cultura\, Espetáculo\, Narrativa e Arte”\, iniciativa que conta com um programa recheado de atividades dirigidas a todas as idades\, desde música\, dança\, poesia\, literatura\, cinema\, teatro\, exposições\, atividades ligadas à natureza e ambiente e encontros diversos.\n\n\nConsulte a programação e\, nesta Primavera\, venha descobrir a Cultura no Coração do Dão!\n\n\n\n#Nelas #MunicipioDeNelas #VisitNelasCoracaoDoDao #cultura #Primavera\n\n\n\n\nhttps://www.facebook.com/municipio.nelas\n\nVISIT NELAS CORAÇÃO DO DÃO… O CAMINHO COMEÇA AQUI
URL:https://www.visitnelascoracaododao.pt/agenda-evento/nesta-primavera-cena1-25-traz-cultura-a-nelas-coracao-do-dao/
LOCATION:Concelho de Nelas
CATEGORIES:Cena
ATTACH;FMTTYPE=image/jpeg:https://www.visitnelascoracaododao.pt/wp-content/uploads/2025/03/485079103_1129058682586858_2492410302964986618_n-1.jpg
END:VEVENT
BEGIN:VEVENT
DTSTART;TZID=UTC:20250322T150000
DTEND;TZID=UTC:20250322T200000
DTSTAMP:20260419T150647
CREATED:20250315T144327Z
LAST-MODIFIED:20250315T144327Z
UID:10000184-1742655600-1742673600@www.visitnelascoracaododao.pt
SUMMARY:“Movimento Interior – Como não matar o litoral para deixar florescer o resto?”
DESCRIPTION:Como não matar o litoral? No dia em que lançamos um livro que celebra os nossos 15 anos de existência\, pomos a mesa para digerir o que é viver a cultura no interior.\n\n\nNo dia 22 de março\, amigos\, artistas\, programadores culturais\, jornalistas\, agentes políticos\, escritores\, pensadores\, mediadores e pessoas da comunidade da região sentam-se à mesa connosco para debater os próximos 15 anos da cultura em Portugal a partir da ideia de “Movimento Interior – Como não matar o litoral para deixar florescer o resto?”.\n\n\n\nEntendemos o interior não como antónimo de litoral\, não como sinónimo de inferioridade\, mas como lugar de inquietação onde há mais tempo para se olhar com outro detalhe. Por outro lado\, o mesmo interior onde quase não há jornalistas para escrever notícias\, não há críticos de arte e em que se sofre a tendência das programações dos teatros\, a nível nacional\, assentarem em propostas de Lisboa e do Porto. Este encontro será realizado numa mesa longa\, com inspiração no projeto “The Long Table”\, do colectivo Split Britches\, de Londres. Consiste numa forma de debate que utiliza o cenário de uma mesa de jantar doméstica para promover uma conversa pública\, a partir de um formato aberto e não hierárquico de participação. Este momento terá a moderação informal da investigadora Ana Pais.\n\n\n\nNo mesmo dia\, lançamos o livro de que já vos falámos: “A árvore não cai – Pelo menos hoje\, amanhã logo se vê”\, que reúne 15 anos de teatro\, e tudo o resto\, a partir de Canas de Senhorim. Cortamos bolo\, cantamos os parabéns\, chocamos copos uns nos outros. Mas isso é outra história.\n\n\n\nA conversa é outra: pública e livre. A discussão é necessária e urgente.\n\n\n\n\n\n\nVISIT NELAS CORAÇÃO DO DÃO… O CAMINHO COMEÇA AQUI
URL:https://www.visitnelascoracaododao.pt/agenda-evento/movimento-interior-como-nao-matar-o-litoral-para-deixar-florescer-o-resto/
LOCATION:Bombeiros de Canas de Senhorim
CATEGORIES:Amarelo Silvestre
ATTACH;FMTTYPE=image/jpeg:https://www.visitnelascoracaododao.pt/wp-content/uploads/2025/03/483836717_1066945108785645_6978570944701524313_n.jpg
END:VEVENT
BEGIN:VEVENT
DTSTART;TZID=UTC:20250322T153000
DTEND;TZID=UTC:20250322T190000
DTSTAMP:20260419T150647
CREATED:20250315T142552Z
LAST-MODIFIED:20250315T142552Z
UID:10000182-1742657400-1742670000@www.visitnelascoracaododao.pt
SUMMARY:Atividade para pais e filhos "Aprender a Nadar é Giro!"
DESCRIPTION:𝐀𝐭𝐢𝐯𝐢𝐝𝐚𝐝𝐞 𝐩𝐚𝐫𝐚 𝐩𝐚𝐢𝐬 𝐞 𝐟𝐢𝐥𝐡𝐨𝐬 “𝐀𝐩𝐫𝐞𝐧𝐝𝐞𝐫 𝐚 𝐍𝐚𝐝𝐚𝐫 𝐞́ 𝐆𝐢𝐫𝐨!” 𝐝𝐞𝐜𝐨𝐫𝐫𝐞 𝐧𝐨 𝐩𝐫𝐨́𝐱𝐢𝐦𝐨 𝐝𝐢𝐚 𝟐𝟐 𝐝𝐞 𝐦𝐚𝐫𝐜̧𝐨 𝐧𝐚𝐬 𝐏𝐢𝐬𝐜𝐢𝐧𝐚𝐬 𝐌𝐮𝐧𝐢𝐜𝐢𝐩𝐚𝐢𝐬 𝐂𝐨𝐛𝐞𝐫𝐭𝐚𝐬\n\nNo âmbito do Dia Mundial da Água\, o Município de Nelas\, através do seus Serviços de Desporto\, promove na tarde de 22 de março 2025\, a atividade lúdica aquática “Aprender a Nadar é Giro!” direcionada para pais e filhos\, dos 3 aos 10 anos. Com início às 15h30\, a participação é gratuita\, sendo que as inscrições são feitas no dia\, pelo que os participantes devem comparecer 15 minutos antes do início da atividade e trazer equipamento adequado.\n\n\n\nOrientada para a vertente lúdica\, “Aprender a Nadar é Giro!” tem como objetivo principal motivar as crianças para a prática da atividade aquática\, criando um ambiente de diversão e de cumplicidade entre pais e filhos. Pretende-se também reforçar desde cedo a importância da natação no quotidiano dos mais novos\, sensibilizando também os progenitores para esta modalidade desportiva como forma de prevenção de acidentes no meio aquático.\n\n\nParticipe e venha divertir-se!\n\n\nVISIT NELAS CORAÇÃO DO DÃO… O CAMINHO COMEÇA AQUI\n\n\n\n\n\n#nelascoracaododao #municipiodenelas #servicosdedesporto #paisefilhos #atividadesquaticas #bemestar
URL:https://www.visitnelascoracaododao.pt/agenda-evento/atividade-para-pais-e-filhos-aprender-a-nadar-e-giro/
LOCATION:Piscinas municipais
ATTACH;FMTTYPE=image/jpeg:https://www.visitnelascoracaododao.pt/wp-content/uploads/2025/03/482325872_1122308703261856_8618928716289895867_n-1.jpg
END:VEVENT
END:VCALENDAR