BEGIN:VCALENDAR
VERSION:2.0
PRODID:-//Visit Nelas Coração do Dão - ECPv6.15.15//NONSGML v1.0//EN
CALSCALE:GREGORIAN
METHOD:PUBLISH
X-WR-CALNAME:Visit Nelas Coração do Dão
X-ORIGINAL-URL:https://www.visitnelascoracaododao.pt
X-WR-CALDESC:Eventos para Visit Nelas Coração do Dão
REFRESH-INTERVAL;VALUE=DURATION:PT1H
X-Robots-Tag:noindex
X-PUBLISHED-TTL:PT1H
BEGIN:VTIMEZONE
TZID:UTC
BEGIN:STANDARD
TZOFFSETFROM:+0000
TZOFFSETTO:+0000
TZNAME:UTC
DTSTART:20230101T000000
END:STANDARD
END:VTIMEZONE
BEGIN:VEVENT
DTSTART;VALUE=DATE:20240701
DTEND;VALUE=DATE:20240909
DTSTAMP:20260419T150638
CREATED:20240701T110306Z
LAST-MODIFIED:20240708T124309Z
UID:10000046-1719792000-1725839999@www.visitnelascoracaododao.pt
SUMMARY:Piscinas Descobertas Municipais
DESCRIPTION:As piscinas descobertas estão à disposição de todos os munícipes e visitantes do Concelho a partir desta segunda-feira\, dia 01 de julho de 2024\, e até ao dia 08 de setembro de 2024.\n\n\n\nHorários:\n-segundas-feiras das 14h30 às 19h30\n-terças-feiras a domingos das 10h00 às 19h30.\n\n\n\n\nPreçário:\n\nEntradas individuais:\n\n-Crianças e jovem (de 4 a 17 anos): 2\,29 €\n-Adultos (maiores de 18 anos): 4\,72 €\n\n\n\n\n\n\nConsulte o regulamento aqui. 
URL:https://www.visitnelascoracaododao.pt/agenda-evento/abertura-das-piscinas-descobertas-municipais/
LOCATION:piscinas descobertas municipais
CATEGORIES:Piscinas Municipais
ATTACH;FMTTYPE=image/jpeg:https://www.visitnelascoracaododao.pt/wp-content/uploads/2024/07/Piscinas-Descobertas-Municipais.jpg
END:VEVENT
BEGIN:VEVENT
DTSTART;VALUE=DATE:20240725
DTEND;VALUE=DATE:20240729
DTSTAMP:20260419T150638
CREATED:20240709T091416Z
LAST-MODIFIED:20240723T110418Z
UID:10000053-1721865600-1722211199@www.visitnelascoracaododao.pt
SUMMARY:Lapa do Lobo Aldeia Cultural
DESCRIPTION:Fundação Lapa do Lobo\, a Contracanto Associação Cultural e a Junta de Freguesia da Lapa do Lobo\, com o apoio dos Municípios de Nelas e de Carregal do Sal\, dinamizam a 3ª edição da Aldeia Cultural. \nEste ano regressa a programação cultural na aldeia\, com exposições\, concertos\, oficinas e muitas outras atividades que prometem um encontro artístico de valor. \nMais informações aqui. \n  \n \nEventos \nOnde ficar
URL:https://www.visitnelascoracaododao.pt/agenda-evento/lapa-do-lobo-aldeia-cultural/
LOCATION:Lapa do Lobo
CATEGORIES:Aldeia Cultural,Cultura
ATTACH;FMTTYPE=image/jpeg:https://www.visitnelascoracaododao.pt/wp-content/uploads/2024/07/Aldeia-Cultural-Lapa-do-Lobo.jpg
END:VEVENT
BEGIN:VEVENT
DTSTART;TZID=UTC:20240726T100000
DTEND;TZID=UTC:20240726T170000
DTSTAMP:20260419T150638
CREATED:20240719T142724Z
LAST-MODIFIED:20240719T142724Z
UID:10000059-1721988000-1722013200@www.visitnelascoracaododao.pt
SUMMARY:Município de Nelas celebra Dia dos Avós
DESCRIPTION:Município de Nelas celebra Dia dos Avós com várias atividades para avós e netos na próxima sexta-feira\, dia 26 de julho de 2024.\n\n\n\nJunte-se a nós no Parque de São Miguel\, Mata das Alminhas\, em Nelas para uma iniciativa com animadas atividades para todas as idades. Um dia especial dedicado aos avós e netos residentes do Concelho\, repleto de alegria e memórias inesquecíveis\, com atividade física às 10h00\, jogos por estações às 11h00\, almoço piquenique às 12h30\, leitura dramatizada da Crónica “Nós\, no Verão” de António Lobo Antunes\, pelas alunas da Universidade Sénior às 14h15 \, espetáculo pelos animadores da Biblioteca Municipal às 14h30 e karaoke às 15h00.\n\n\n\nA participação é gratuita. Não perca essa oportunidade de criar laços e viver momentos únicos em família. Esperamos por si!\n\n\n  \n\nDia dos Avós\n\n  \nEventos \nBiblioteca Sobre Rodas: Leituras 100 Idade nas IPSS’s do Concelho
URL:https://www.visitnelascoracaododao.pt/agenda-evento/municipio-de-nelas-celebra-dia-dos-avos/
LOCATION:Parque de São Miguel (Mata das Alminhas)
CATEGORIES:Dia dos Avós
ATTACH;FMTTYPE=image/jpeg:https://www.visitnelascoracaododao.pt/wp-content/uploads/2024/07/Texto-do-seu-paragrafo-6.jpg
END:VEVENT
END:VCALENDAR